BEGIN:VCALENDAR
VERSION:2.0
PRODID:-//wp-events-plugin.com//7.2.3.1//EN
TZID:Europe/Paris
X-WR-TIMEZONE:Europe/Paris
BEGIN:VEVENT
UID:3@le-garric.fr
DTSTART;TZID=Europe/Paris;VALUE=DATE:20210729
DTEND;TZID=Europe/Paris;VALUE=DATE:20210802
DTSTAMP:20221220T125042Z
URL:http://www.le-garric.fr/events/xtreme-fest-2021/
SUMMARY:Xtreme Fest 2021
DESCRIPTION:Xtreme Fest #8 - Friendship\, Zguen &amp\; Unity\ndu 29.07.2020
  au 01.08.2021\nCap'Découverte - 81450 Le Garric / France\n\nOrganisé pa
 r X Fest organisation et Pollux Asso\, en collaboration avec la Maison de 
 la Musique - Cap'Découverte\n\nRendez-vous du 29 juillet au 1er aout 2021
  pour la huitième édition de l'Xtreme Fest ! Nous travaillons actuelleme
 nt sur une programmation à l’identique de 2020. Plus d'infos sur la pro
 grammation\, la billetterie\, 2021 et vos billets pour 2020 à venir !\n\n
 Plus d'infos sur la page facebook Xtreme FEST ou www.xtremefest.fr
ATTACH;FMTTYPE=image/jpeg:http://www.le-garric.fr/wp-content/uploads/2020/
 06/xtremefest2021.jpg
CATEGORIES:Concert
LOCATION:Maison de la Musique - Cap Découverte\, Cap découverte\, le garr
 ic\, 81450\, France
GEO:44.014818843526534;2.139764644457955
X-APPLE-STRUCTURED-LOCATION;VALUE=URI;X-ADDRESS=Cap découverte\, le garric
 \, 81450\, France;X-APPLE-RADIUS=100;X-TITLE=Maison de la Musique - Cap D
 écouverte:geo:44.014818843526534,2.139764644457955
END:VEVENT
BEGIN:VTIMEZONE
TZID:Europe/Paris
X-LIC-LOCATION:Europe/Paris
BEGIN:DAYLIGHT
DTSTART:20210328T030000
TZOFFSETFROM:+0100
TZOFFSETTO:+0200
TZNAME:CEST
END:DAYLIGHT
END:VTIMEZONE
END:VCALENDAR