BEGIN:VCALENDAR
VERSION:2.0
PRODID:-//wp-events-plugin.com//7.2.3.1//EN
TZID:Europe/Paris
X-WR-TIMEZONE:Europe/Paris
BEGIN:VEVENT
UID:66@le-garric.fr
DTSTART:20161119T194500Z
DTEND:20161120T194500Z
DTSTAMP:20221220T125037Z
URL:http://www.le-garric.fr/events/11eme-festival-de-magie/
SUMMARY:11ème FESTIVAL DE MAGIE
DESCRIPTION:Samedi 19 novembre à 21h\nDimanche 20 novembre à 15h\nMaison 
 de la Musique / Cap Découverte\n81450 LE GARRIC\n \nTarifs : 20 € adu
 ltes / 16 € réduit (demandeurs d’emploi\, groupe de 10\, étudiants)\
 n           10 € enfants (moins de 12 ans)\n*** renseignements 05 
 63 80 29 01 - Office d’animation du Carmausin 05 63 76 76 67 ***\n \nU
 nique dans le Tarn\, des artistes de renommée nationale voire internation
 ale durant plus de deux heures de show\, mêlant de nombreuses disciplines
  de la magie et du monde du spectacle : équilibre\, humour\, fauves\, lé
 vitation magie futuriste et piraterie se côtoient et se subliment au Fest
 ival de la magie. Organisé par la commission culture de la ville de Carma
 ux et le SMAD Cap Découverte.
CATEGORIES:Animation
LOCATION:Maison de la Musique - Cap Découverte\, Cap découverte\, le garr
 ic\, 81450\, France
GEO:44.014818843526534;2.139764644457955
X-APPLE-STRUCTURED-LOCATION;VALUE=URI;X-ADDRESS=Cap découverte\, le garric
 \, 81450\, France;X-APPLE-RADIUS=100;X-TITLE=Maison de la Musique - Cap D
 écouverte:geo:44.014818843526534,2.139764644457955
END:VEVENT
END:VCALENDAR