BEGIN:VCALENDAR
VERSION:2.0
PRODID:-//wp-events-plugin.com//7.2.3.1//EN
TZID:Europe/Paris
X-WR-TIMEZONE:Europe/Paris
BEGIN:VEVENT
UID:10@le-garric.fr
DTSTART;TZID=Europe/Paris;VALUE=DATE:20200919
DTEND;TZID=Europe/Paris;VALUE=DATE:20200921
DTSTAMP:20221220T125042Z
URL:http://www.le-garric.fr/events/visite-guidee-du-sentier-du-charbon-au-
 soleil/
SUMMARY:Visite guidée
DESCRIPTION:Visite guidée du sentier « Du Charbon au Soleil »\ndu samedi
  19 septembre au dimanche 20 septembre à Cap’Découverte\n\nEn cette an
 née 2020\, Cap’Découverte accueille les 37e Journées Européennes du 
 Patrimoine. Au programme : expositions\, visites guidées et découverte d
 u parcours éducatif\, culturel et ludique « Du Charbon au Soleil ».\n\n
 **Visite guidée du sentier « Du Charbon au Soleil »**\n**Durée 02h00 s
 ur réservation (horaires à définir)**\nVenez découvrir notre parcours 
 de plein air associant les sciences de la terre\, l’histoire des énergi
 es et la réalité augmentée.\nParcourez l’échelle du Temps\, revisite
 z nos inventions dans cette quête incessante de nouvelles sources d’én
 ergies.\nCette expérience vous permettra de mieux appréhender notre enje
 u majeur : comment garantir le développement durable de toutes nos activi
 tés ?\n\nApplication Cap’3D\, jeux en réalité augmentée\, nouvelles 
 technologies et énergies.\nDurée : 2h\, des horaires spécifiques de vis
 ites seront communiqués ultérieurement\nVisite guidée du sentier « Du 
 Charbon au Soleil » de Cap’Découverte\, avec l’application Cap’3D\
 , jeux en réalité augmentée\, nouvelles technologies et énergies.
ATTACH;FMTTYPE=image/jpeg:http://www.le-garric.fr/wp-content/uploads/2020/
 07/sentier-charbon-soleil.jpg
CATEGORIES:Animation
LOCATION:Pôle multiloisirs - Cap Découverte\, Cap découverte\, le garric
 \, 81450\, France
GEO:44.02129972013237;2.1445711630126425
X-APPLE-STRUCTURED-LOCATION;VALUE=URI;X-ADDRESS=Cap découverte\, le garric
 \, 81450\, France;X-APPLE-RADIUS=100;X-TITLE=Pôle multiloisirs - Cap Déc
 ouverte:geo:44.02129972013237,2.1445711630126425
END:VEVENT
BEGIN:VTIMEZONE
TZID:Europe/Paris
X-LIC-LOCATION:Europe/Paris
BEGIN:DAYLIGHT
DTSTART:20200329T030000
TZOFFSETFROM:+0100
TZOFFSETTO:+0200
TZNAME:CEST
END:DAYLIGHT
END:VTIMEZONE
END:VCALENDAR