BEGIN:VCALENDAR
VERSION:2.0
PRODID:-//wp-events-plugin.com//7.2.3.1//EN
TZID:Europe/Paris
X-WR-TIMEZONE:Europe/Paris
BEGIN:VEVENT
UID:14@le-garric.fr
DTSTART;TZID=Europe/Paris;VALUE=DATE:20210912
DTEND;TZID=Europe/Paris;VALUE=DATE:20210913
DTSTAMP:20221220T125042Z
URL:http://www.le-garric.fr/events/vide-grenier/
SUMMARY:Vide Grenier
DESCRIPTION:Dimanche 12 septembre\, vide-greniers organisé par l’associa
 tion garricoise Générations Mouvement des aînés du Garric\, à la sall
 e des sports\, de 8 h à 18 h.
ATTACH;FMTTYPE=image/jpeg:http://www.le-garric.fr/wp-content/uploads/2021/
 08/vide-grenier.jpeg
CATEGORIES:Animation
LOCATION:Stade Michel Olivié\, rue Jules Ferry\, le garric\, 81450\, Franc
 e
GEO:44.01187097548154;2.1657515714111923
X-APPLE-STRUCTURED-LOCATION;VALUE=URI;X-ADDRESS=rue Jules Ferry\, le garric
 \, 81450\, France;X-APPLE-RADIUS=100;X-TITLE=Stade Michel Olivié:geo:44.0
 1187097548154,2.1657515714111923
END:VEVENT
BEGIN:VTIMEZONE
TZID:Europe/Paris
X-LIC-LOCATION:Europe/Paris
BEGIN:DAYLIGHT
DTSTART:20210328T030000
TZOFFSETFROM:+0100
TZOFFSETTO:+0200
TZNAME:CEST
END:DAYLIGHT
END:VTIMEZONE
END:VCALENDAR