BEGIN:VCALENDAR
VERSION:2.0
PRODID:-//wp-events-plugin.com//7.2.3.1//EN
TZID:Europe/Paris
X-WR-TIMEZONE:Europe/Paris
BEGIN:VEVENT
UID:113@le-garric.fr
DTSTART;VALUE=DATE:20190428
DTEND;VALUE=DATE:20190429
DTSTAMP:20221220T125041Z
URL:http://www.le-garric.fr/events/vide-grenier-du-fc-le-garric/
SUMMARY:Vide grenier du FC Le Garric
DESCRIPTION:
CATEGORIES:Animation
LOCATION:Pôle multiloisirs - Cap Découverte\, Cap découverte\, le garric
 \, 81450\, France
GEO:44.02129972013237;2.1445711630126425
X-APPLE-STRUCTURED-LOCATION;VALUE=URI;X-ADDRESS=Cap découverte\, le garric
 \, 81450\, France;X-APPLE-RADIUS=100;X-TITLE=Pôle multiloisirs - Cap Déc
 ouverte:geo:44.02129972013237,2.1445711630126425
END:VEVENT
END:VCALENDAR