BEGIN:VCALENDAR
VERSION:2.0
PRODID:-//wp-events-plugin.com//7.2.3.1//EN
TZID:Europe/Paris
X-WR-TIMEZONE:Europe/Paris
BEGIN:VEVENT
UID:71@le-garric.fr
DTSTART:20170223T180000Z
DTEND:20170223T223000Z
DTSTAMP:20221220T125037Z
URL:http://www.le-garric.fr/events/pascale-criton-creation-sonore-et-music
 ale/
SUMMARY:PASCALE CRITON Création sonore et musicale
DESCRIPTION:Rencontres artistiques autour de la résidence\nJEUDI 23 FEVRIE
 R à 19h\nEntrée libre et gratuite dans la limite des places disponibles\
 nà la MAISON DE LA MUSIQUE à Cap’Découverte81450 LE GARRIC\nRésidenc
 e d’enregistrement des 2 pièces récentes « Chaoscaccia pour violonce
 lle » et « Process pour ensemble » de la compositrice Pascale Criton
   par les musiciens de l’ensemble Dedalus pour un CD à paraître sur l
 e label Potlatch à l’automne 2017.\n \nCompositrice et musicologue\, P
 ascale Criton est tout particulièrement connue pour exploiter des échell
 es microtonales très denses.\nSon écriture utilise la scordatura (accord
 s spécifiques des instruments à cordes\, des guitares\, du piano) associ
 ée aux instruments de l’orchestre et à la synthèse numérique.\nhttp:
 //www.pascalecriton.com\n \nDeborah Walker\, violoncelle\nSilvia Tarozzi\
 , violon\nAmélie Berson\, flûte\nThierry Madiot\, trombone\nDidier Ascho
 ur\, guitare\n 
CATEGORIES:Concert
LOCATION:Maison de la Musique - Cap Découverte\, Cap découverte\, le garr
 ic\, 81450\, France
GEO:44.014818843526534;2.139764644457955
X-APPLE-STRUCTURED-LOCATION;VALUE=URI;X-ADDRESS=Cap découverte\, le garric
 \, 81450\, France;X-APPLE-RADIUS=100;X-TITLE=Maison de la Musique - Cap D
 écouverte:geo:44.014818843526534,2.139764644457955
END:VEVENT
END:VCALENDAR