BEGIN:VCALENDAR
VERSION:2.0
PRODID:-//wp-events-plugin.com//7.2.3.1//EN
TZID:Europe/Paris
X-WR-TIMEZONE:Europe/Paris
BEGIN:VEVENT
UID:105@le-garric.fr
DTSTART:20180915T193000Z
DTEND:20180915T193000Z
DTSTAMP:20221220T125040Z
URL:http://www.le-garric.fr/events/un-temps-de-chien-avec-la-troupe-les-ph
 illes/
SUMMARY:Un temps de chien avec la troupe Les Philles
DESCRIPTION:THEATRE SALLE LUCIE AUBRAC LE SAMEDI 15 SEPTEMBRE 20h30\nTrois
  détresses dans l'arrière-salle d'un café ! Pendant une heure et demie\
 , on ne quitte pas l'arrière-salle d'un café qui tient du dancing abando
 nné et de l'entrepôt improvisé. Comme il pleut à verse (il va même ne
 iger\, et nous sommes en septembre !)\, une femme s'y réfugie\, puis une 
 autre\, et enfin une autre. Elles ne se connaissent pas\, ou très peu. El
 les vont avoir le temps de tisser des relations : le mauvais temps ne cess
 e pas\, elles ont chacune des malheurs à confier. Elles sont entrées dan
 s ce troquet pour un quart d'heure. Elles vont y passer la journée\, et l
 a nuit peut-être : trois détresses dans une arrière-salle\, trois femme
 s sur un radeau secoué par leurs vagues...
CATEGORIES:Théatre
LOCATION:Stade Michel Olivié\, rue Jules Ferry\, le garric\, 81450\, Franc
 e
GEO:44.01187097548154;2.1657515714111923
X-APPLE-STRUCTURED-LOCATION;VALUE=URI;X-ADDRESS=rue Jules Ferry\, le garric
 \, 81450\, France;X-APPLE-RADIUS=100;X-TITLE=Stade Michel Olivié:geo:44.0
 1187097548154,2.1657515714111923
END:VEVENT
END:VCALENDAR