BEGIN:VCALENDAR
VERSION:2.0
PRODID:-//wp-events-plugin.com//7.2.3.1//EN
TZID:Europe/Paris
X-WR-TIMEZONE:Europe/Paris
BEGIN:VEVENT
UID:59@le-garric.fr
DTSTART:20160507T193000Z
DTEND:20160507T210000Z
DTSTAMP:20221220T125036Z
URL:http://www.le-garric.fr/events/un-grand-cri-damour/
SUMMARY:Un grand cri d'amour
DESCRIPTION:Théâtre avec la Compagnie Théâtre de la Déc’ouverte\nSAM
 EDI 7 MAI à 20h30\nTarifs : plein 12 € - réduit 8 €\nMaison de la Mu
 sique – Cap Découverte –\n81450 LE GARRIC\n*** renseignements 05 63 7
 6 24 40 – theatredecouverte@free.fr ***\n\n\nUn grand cri d’amour\, pi
 èce de théâtre de Josiane Balasko\, sera jouée\, pour la 1ère fois\, 
 par la fabuleuse équipe des Brigandroles le Samedi 7 mai à la Maison de 
 la Musique à Cap Découverte\, avec une mise en scène de Jean-Louis Reyn
 ès\, avant une tournée régionale.\n\nAvant de divorcer\, Hugo et Gigi f
 ormaient un couple d’artistes épatants. Depuis leur séparation\, Gigi 
 a sombré dans la dépression tandis que son ex-mari tente de relancer sa 
 carrière d’acteur de théâtre.\nLa 1ère représentation va bientôt a
 voir lieu\, mais sa partenaire lui fausse compagnie… Gigi est choisie po
 ur la remplacer\, l’occasion pour elle de revenir sous les feux des proj
 ecteurs.\nEncore faut-il que les ex-amants acceptent cette idée !\n\nUn r
 ythme fou\, des dialogues cinglants\, de l’émotion\, de l’humour\, de
 s pleurs\, des bagarres… de grands moments de rires garantis.\n\nDistrib
 ution\nHugo : Arnaud Broussy\nGigi : Séverine Granier\nLéon : Julien Leg
 rand\nSylvette : Marie-Eve Malaterre\nMise en scène : Jean-Louis Reynès
CATEGORIES:Théatre
LOCATION:Maison de la Musique - Cap Découverte\, Cap découverte\, le garr
 ic\, 81450\, France
GEO:44.014818843526534;2.139764644457955
X-APPLE-STRUCTURED-LOCATION;VALUE=URI;X-ADDRESS=Cap découverte\, le garric
 \, 81450\, France;X-APPLE-RADIUS=100;X-TITLE=Maison de la Musique - Cap D
 écouverte:geo:44.014818843526534,2.139764644457955
END:VEVENT
END:VCALENDAR