BEGIN:VCALENDAR
VERSION:2.0
PRODID:-//wp-events-plugin.com//7.2.3.1//EN
TZID:Europe/Paris
X-WR-TIMEZONE:Europe/Paris
BEGIN:VEVENT
UID:92@le-garric.fr
DTSTART:20171203T170000Z
DTEND:20171203T200000Z
DTSTAMP:20221220T125040Z
URL:http://www.le-garric.fr/events/the-stranglers-the-melomaniacs-1ere-par
 tie/
SUMMARY:«THE STRANGLERS» / THE MELOMANIACS (1ère partie)
DESCRIPTION:Dimanche 3 Décembre à 18h00\nTarifs : 25 € / 22€ (rédui
 t)\nMaison de la Musique 81450 LE GARRIC\n*** en ligne sur www.Digitick.co
 m ***\n \nPlus de 25 ans après sa formation\, un des groupes les plus du
 rables de la scène rock et l’un des rares issus du mouvement punk\, ser
 a sur le devant de la scène avec un nouvel album et une tournée.\n \nTh
 e Stranglers sont en France et feront leur dernière escale\, le 3 décemb
 re\, à la Maison de la Musique.\nIls présenteront leur tournée « Class
 ic Collection »\, coïncidant avec la sortie de la réédition de leur di
 scographie des années 1977-82.\nAprès une riche et impressionnante carri
 ère\, les Stranglers s’apprêtent à enthousiasmer le public une fois d
 e plus avec leur son britannique si distinctif\, une setlist taillée pou
 r le live avec leurs meilleurs singles comme Always The Sun\, Golden Brown
 \, No More Heroes\, Peaches …..\n \nThe Stranglers\, un des groupes ang
 lais les plus excitants et influents de ces dernières décennies. Continu
 ant d’enchainer les records\, les salles complètes et les apparitions e
 n festivals au Royaume-Uni et dans le monde entier\, la demande des fans n
 ’a jamais été aussi forte\, témoignant de leur incontestable talent m
 usical et de l’intemporalité de leurs compositions musicales.\n \nThe 
 Melomaniacs seront leurs invités spéciaux sur ce tour. Ce groupe mêle i
 nfluences folk\, blues\, rock\, funk et reggae. 3 hommes perdus dans la mu
 sique et le temps\, entre Pink Floyd et The National.\nUne date à retenir
 …  Un privilège que de les recevoir dans notre région\, qui plus est\
 , à la Maison de la Musique au Garric.\n \nThe Stranglers : JJ Burnel (
 basse)\, Jet Black (batterie)\, Dave Greenfields (claviers)\, Paul Roberts
  (vocal)\, Baz Warne (guitare)\n \n\nUn concert réalisé avec le soutien
  de l'association Arpèges &amp\; Trémolos - Festival Pause Guitare
ATTACH;FMTTYPE=image/jpeg:http://www.le-garric.fr/wp-content/uploads/2017/
 11/TheStranglers2017.jpg
CATEGORIES:Concert
LOCATION:Maison de la Musique - Cap Découverte\, Cap découverte\, le garr
 ic\, 81450\, France
GEO:44.014818843526534;2.139764644457955
X-APPLE-STRUCTURED-LOCATION;VALUE=URI;X-ADDRESS=Cap découverte\, le garric
 \, 81450\, France;X-APPLE-RADIUS=100;X-TITLE=Maison de la Musique - Cap D
 écouverte:geo:44.014818843526534,2.139764644457955
END:VEVENT
END:VCALENDAR