BEGIN:VCALENDAR
VERSION:2.0
PRODID:-//wp-events-plugin.com//7.2.3.1//EN
TZID:Europe/Paris
X-WR-TIMEZONE:Europe/Paris
BEGIN:VEVENT
UID:16@le-garric.fr
DTSTART;TZID=Europe/Paris;VALUE=DATE:20211025
DTEND;TZID=Europe/Paris;VALUE=DATE:20211030
DTSTAMP:20221220T125042Z
URL:http://www.le-garric.fr/events/stages-de-pratiques-artistiques/
SUMMARY:Stages de pratiques artistiques
DESCRIPTION:STAGE DE STREET ART\nAvec l’artiste coBo\nDu lundi au vendred
 i de 10h à 12h\nDe 10 à 15 ans\nTarif : 80 € (matériel fourni)\nTu a
 s entre 10 et 15 ans\, révèle l’artiste urbain qui est en toi\, en t
 ’initiant au Street Art à Cap’Découverte. Ta mission ? participer 
 à la « mise en beauté » personnalisée du bowl du skatepark de Cap s
 ous les conseils avisés de l’artiste cObo.\nLieu : Bowl du skatepark (
 en intérieur en cas de mauvais temps\, sur un autre support)  \n\nSTAGE
  DE DECOUVERTE DES DANSES HIP-HOP\nDu lundi au vendredi de 09h30 à 12h30\
 nDe 11 à 15 ans\nTarif : 100 €\nTu as entre 11 et 15 ans ? chausse te
 s baskets et viens découvrir et t’initier à cette danse spectaculaire 
 issue des ghettos New-yorkais.\nLieu : Maison de la Musique\n\nSTAGE DE M
 AGIE\nLes 26 et 27 octobre 2021 de 10h à 12h et de 14h à 16h\n10 ans et 
 plus\nTarif : 80 €\nViens t’initier à l’art de l’illusion et de 
 la manipulation d’objet\nRestitution fin de stage\nArtiste : Nicolas Re
 y\, Magitateur de foule et de proximité – compagnie Les Incompressibles
 \nStage proposé en partenariat avec la commune de Carmaux en amont du «
  Cabaret de magie » programmé le 14 novembre 2021\nLieu : Maison de l
 a Musique\n\nCONTACT CAP’DÉCOUVERTE &gt\; 05 63 80 29 00 ou contact@cap
 decouverte.com\nINFO COVID\nLe pass sanitaire est désormais obligatoire p
 our l’accès aux spectacles selon les consignes gouvernementales en vigu
 eur.
ATTACH;FMTTYPE=image/jpeg:http://www.le-garric.fr/wp-content/uploads/2021/
 10/05-stages-cap-decouverte-2021-.jpg
CATEGORIES:Animation
LOCATION:Pôle multiloisirs - Cap Découverte\, Cap découverte\, le garric
 \, 81450\, France
GEO:44.02129972013237;2.1445711630126425
X-APPLE-STRUCTURED-LOCATION;VALUE=URI;X-ADDRESS=Cap découverte\, le garric
 \, 81450\, France;X-APPLE-RADIUS=100;X-TITLE=Pôle multiloisirs - Cap Déc
 ouverte:geo:44.02129972013237,2.1445711630126425
END:VEVENT
BEGIN:VTIMEZONE
TZID:Europe/Paris
X-LIC-LOCATION:Europe/Paris
BEGIN:DAYLIGHT
DTSTART:20210328T030000
TZOFFSETFROM:+0100
TZOFFSETTO:+0200
TZNAME:CEST
END:DAYLIGHT
END:VTIMEZONE
END:VCALENDAR