BEGIN:VCALENDAR
VERSION:2.0
PRODID:-//wp-events-plugin.com//7.2.3.1//EN
TZID:Europe/Paris
X-WR-TIMEZONE:Europe/Paris
BEGIN:VEVENT
UID:119@le-garric.fr
DTSTART;VALUE=DATE:20200210
DTEND;VALUE=DATE:20200215
DTSTAMP:20221220T125041Z
URL:http://www.le-garric.fr/events/stages-de-cirque/
SUMMARY:Stages de cirque
DESCRIPTION:L'Association LA COUPOLE et Cap'Découverte proposent :2 Stages
  de cirque : du 10 au 14 février et du 17 au 21 février 2020à la Maiso
 n de la Musique à Le Garric.\nAu programme: base acrobatique\, fil de fer
 \, trapèze\, corde lisse et tissus aérien\, équilibre sur boule\, jongl
 age\, équilibre\, contorsion...La 1ère semaine (du 10 au 14.02) avec Ol
 ivier &amp\; Valérie Roustan\, artistes de cirque funambules et trapézis
 tes\, tous les deux diplômés d’Etat de Professeur de cirque\, ainsi qu
 ’Antoine Hulon\, artiste de cirque jongleur\, musicien.\n\n\nLa 2ème s
 emaine (du 17 au 21.02) en plus des Roustan\, Claire Joubert\, artiste de 
 cirque\, contorsionniste (Les Mandragores).Spectacles de clôture : les v
 endredi 14 et vendredi 20 février vers 18h.Groupes\, horaire et tarif:De 
 4 ans à 5 ans &gt\; le matin de 10h à 11h (55 euros la semaine)De 5 ans 
 et demi à 6 ans et demi &gt\; de 11h à 12 h (55 euros la semaine)Pour le
 s plus de 7 ans &gt\; de 14h à 17h (80 euros la semaine)Inscriptions par 
 mail à:ass.lacoupole@orange.frInformations au 05 63 80 29 01 – Attentio
 n places limitées -\n\n\n\n
ATTACH;FMTTYPE=image/jpeg:http://www.le-garric.fr/wp-content/uploads/2020/
 02/Affiche-cabolo-2020.jpeg
CATEGORIES:Animation
LOCATION:Maison de la Musique - Cap Découverte\, Cap découverte\, le garr
 ic\, 81450\, France
GEO:44.014818843526534;2.139764644457955
X-APPLE-STRUCTURED-LOCATION;VALUE=URI;X-ADDRESS=Cap découverte\, le garric
 \, 81450\, France;X-APPLE-RADIUS=100;X-TITLE=Maison de la Musique - Cap D
 écouverte:geo:44.014818843526534,2.139764644457955
END:VEVENT
END:VCALENDAR