BEGIN:VCALENDAR
VERSION:2.0
PRODID:-//wp-events-plugin.com//7.2.3.1//EN
TZID:Europe/Paris
X-WR-TIMEZONE:Europe/Paris
BEGIN:VEVENT
UID:11@le-garric.fr
DTSTART;TZID=Europe/Paris:20210603T140000
DTEND;TZID=Europe/Paris:20210603T140000
DTSTAMP:20221220T125042Z
URL:http://www.le-garric.fr/events/spectacle-envole-toi/
SUMMARY:Spectacle « Envole-toi »
DESCRIPTION:Envole-toi conte la quête initiatique d’une petite fille in
 carnée par une marionnette. Son parcours semé de rencontres bienveillant
 es et parfois inquiétantes va la mener non seulement à dépasser ses peu
 rs mais aussi à réaliser son rêve.\n\nLa marionnette possède cette ver
 tu magique d’emmener le spectateur jusqu’au bout de l’histoire et de
  lui faire sentir ce que les personnages vivent.Elle véhicule des qualit
 és essentielles comme Isaïa\, personnage principal de notre histoire\, i
 ncarne le courage\, la gaieté et la tendresse. Des valeurs que les enfant
 s reconnaissent parce qu’ils ont besoin d’elles pour grandir et contin
 uer leur chemin.\n\nLa scénographie aussi est un vecteur essentiel de l
 ’histoire. Le travail du papier\, son agencement\, le choix de ses coule
 urs invitent le spectateur dans un unvivers doux\, poétique et symbolique
 .\nLa matière raconte donc l’histoire. Et les paravents de papier se d
 éplacent eux aussi au fil du conte\, tournant les pages\, emmenant doucem
 ent les spectateurs sur les pas d’Isaïa. Des pas conduits par la musiqu
 e…\n\nUne musique originale cousue pour le spectacle où les sons graves
  du marimba se marient aux sons cristallins de la harpe. Elle met en lumi
 ère les émotions des personnages et en éveille tout aussi sûrement che
 z les spectateurs – les petits comme les grands. Ainsi se parachève not
 re voyage à tous -acteurs comme spectateurs- vers le sensible.\n\nen savo
 ir plus : https://cie-artemisia.com/envole-toi
ATTACH;FMTTYPE=image/jpeg:http://www.le-garric.fr/wp-content/uploads/2020/
 12/compagnie_artemisia_spectacle_jeune_public_marionette_envole-toi.jpg
CATEGORIES:Animation
LOCATION:Espace Lucie Aubrac\, 15 Route de Valderies\, LE GARRIC\, 81450\, 
 France
X-APPLE-STRUCTURED-LOCATION;VALUE=URI;X-ADDRESS=15 Route de Valderies\, LE 
 GARRIC\, 81450\, France;X-APPLE-RADIUS=100;X-TITLE=Espace Lucie Aubrac:geo
 :0,0
END:VEVENT
BEGIN:VTIMEZONE
TZID:Europe/Paris
X-LIC-LOCATION:Europe/Paris
BEGIN:DAYLIGHT
DTSTART:20210328T030000
TZOFFSETFROM:+0100
TZOFFSETTO:+0200
TZNAME:CEST
END:DAYLIGHT
END:VTIMEZONE
END:VCALENDAR