BEGIN:VCALENDAR
VERSION:2.0
PRODID:-//wp-events-plugin.com//7.2.3.1//EN
TZID:Europe/Paris
X-WR-TIMEZONE:Europe/Paris
BEGIN:VEVENT
UID:93@le-garric.fr
DTSTART:20171223T140000Z
DTEND:20171223T140000Z
DTSTAMP:20221220T125040Z
URL:http://www.le-garric.fr/events/spectacle-de-noel-un-rien-cest-tout/
SUMMARY:Spectacle de Noël : "Un rien c'est tout"
DESCRIPTION:par la compagnie Vers Les Arts\n\nSAMEDI 23 DECEMBRE à 15h Sal
 le Lucie Aubrac\n\n\nOrganisé par la Mairie de Le Garric et le CCAS\n\n\n
 comme chaque année le spectacle sera suivi d'un goûter\n
ATTACH;FMTTYPE=image/jpeg:http://www.le-garric.fr/wp-content/uploads/2017/
 12/lezart.jpg
CATEGORIES:Animation
LOCATION:Stade Michel Olivié\, rue Jules Ferry\, le garric\, 81450\, Franc
 e
GEO:44.01187097548154;2.1657515714111923
X-APPLE-STRUCTURED-LOCATION;VALUE=URI;X-ADDRESS=rue Jules Ferry\, le garric
 \, 81450\, France;X-APPLE-RADIUS=100;X-TITLE=Stade Michel Olivié:geo:44.0
 1187097548154,2.1657515714111923
END:VEVENT
END:VCALENDAR