BEGIN:VCALENDAR
VERSION:2.0
PRODID:-//wp-events-plugin.com//7.2.3.1//EN
TZID:Europe/Paris
X-WR-TIMEZONE:Europe/Paris
BEGIN:VEVENT
UID:2@le-garric.fr
DTSTART;TZID=Europe/Paris:20201219T140000
DTEND;TZID=Europe/Paris:20201219T140000
DTSTAMP:20221220T125042Z
URL:http://www.le-garric.fr/events/spectacle-de-noel-4/
SUMMARY:ANNULATION - Spectacle de Noël
DESCRIPTION:En raison de la crise sanitaire\, le spectacle de noël du same
 di 19 décembre est annulé
ATTACH;FMTTYPE=image/jpeg:http://www.le-garric.fr/wp-content/uploads/2020/
 04/spectacle-noel.jpg
CATEGORIES:Animation
LOCATION:Espace Lucie Aubrac\, 15 Route de Valderies\, LE GARRIC\, 81450\, 
 France
X-APPLE-STRUCTURED-LOCATION;VALUE=URI;X-ADDRESS=15 Route de Valderies\, LE 
 GARRIC\, 81450\, France;X-APPLE-RADIUS=100;X-TITLE=Espace Lucie Aubrac:geo
 :0,0
END:VEVENT
BEGIN:VTIMEZONE
TZID:Europe/Paris
X-LIC-LOCATION:Europe/Paris
BEGIN:STANDARD
DTSTART:20201025T020000
TZOFFSETFROM:+0200
TZOFFSETTO:+0100
TZNAME:CET
END:STANDARD
END:VTIMEZONE
END:VCALENDAR