BEGIN:VCALENDAR
VERSION:2.0
PRODID:-//wp-events-plugin.com//7.2.3.1//EN
TZID:Europe/Paris
X-WR-TIMEZONE:Europe/Paris
BEGIN:VEVENT
UID:9@le-garric.fr
DTSTART;TZID=Europe/Paris:20200718T183000
DTEND;TZID=Europe/Paris:20200718T193000
DTSTAMP:20221220T125041Z
URL:http://www.le-garric.fr/events/spectacle-de-cirque/
SUMMARY:Spectacle de cirque
DESCRIPTION:Samedi 18 juillet 2020 de 18:30 à 19:30\n\nSpectacle de cirque
  "L'envolée" de la Cie La Cabriole\n\nEntre ciel et terre\, fantaisie et 
 quotidien\, un couple de saltimbanques et acrobates\, échappe à la pesa
 nteur. Une « vie de bohème »\, pas toujours très romantique et dont le
 s situations prêtent souvent plus au burlesque qu’à la poésie\, enfi
 n plutôt à la poésie du burlesque...\n\nTravail\, famille\, ...voyage.
  L'échappée est un bol d'air\, un bout de vie.\n\nParvis de Cap'Découve
 rte (ou Halle de la Maison de la Musique en cas de mauvais temps)
ATTACH;FMTTYPE=image/jpeg:http://www.le-garric.fr/wp-content/uploads/2020/
 07/cirque2020.jpg
CATEGORIES:Animation
LOCATION:Pôle multiloisirs - Cap Découverte\, Cap découverte\, le garric
 \, 81450\, France
GEO:44.02129972013237;2.1445711630126425
X-APPLE-STRUCTURED-LOCATION;VALUE=URI;X-ADDRESS=Cap découverte\, le garric
 \, 81450\, France;X-APPLE-RADIUS=100;X-TITLE=Pôle multiloisirs - Cap Déc
 ouverte:geo:44.02129972013237,2.1445711630126425
END:VEVENT
BEGIN:VTIMEZONE
TZID:Europe/Paris
X-LIC-LOCATION:Europe/Paris
BEGIN:DAYLIGHT
DTSTART:20200329T030000
TZOFFSETFROM:+0100
TZOFFSETTO:+0200
TZNAME:CEST
END:DAYLIGHT
END:VTIMEZONE
END:VCALENDAR