BEGIN:VCALENDAR
VERSION:2.0
PRODID:-//wp-events-plugin.com//7.2.3.1//EN
TZID:Europe/Paris
X-WR-TIMEZONE:Europe/Paris
BEGIN:VEVENT
UID:13@le-garric.fr
DTSTART;TZID=Europe/Paris:20210926T170000
DTEND;TZID=Europe/Paris:20210926T170000
DTSTAMP:20221220T125042Z
URL:http://www.le-garric.fr/events/spectacle-alberto-garcia-sanchez-elle-e
 t-mon-genre/
SUMMARY:Spectacle : Alberto Garcia Sanchez "Elle et mon genre"
DESCRIPTION:ELLE ET MON GENRE nous parle de la réalité que subissent les 
 femmes dans notre société. Bien que les femmes soient le thème principa
 l du spectacle\, un autre thème\, moins évident\, a été omniprésent p
 endant le processus d’écriture\, à savoir le regard que nous\, hommes 
 et femmes\, portons sur la réalité des femmes.\n\nNous connaissons tous 
 les problèmes de cette moitié de l’humanité : violences de genre\, d
 ifférences salariales\, partage inéquitable des tâches ménagères… A
 ttendez une seconde ! Avez-vous ressenti\, lorsque vous avez lu « nous
  connaissons tous »\, une légère fatigue ? Voire même une petite env
 ie d’arrêter de lire ? Si « nous connaissons tous »\, alors à qu
 oi bon en parler ? Il semblerait que la lutte pour les droits des femmes 
 en occident soit dominée par ce qu’on pourrait appeler le syndrome du 
 « nous le savons déjà »\, qui nous invite d’un côté à tourner v
 ite les pages\, et de l’autre à investir notre indignation dans ce qui 
 se passe dans d’autres cultures – car dans la nôtre\, « nous le sa
 vons déjà »\, nous avons déjà beaucoup avancé. C’est ainsi que ce
 ux\, et surtout celles\, qui résistent et persistent à dénoncer les inj
 ustices que subissent nos concitoyennes sont facilement censuré-e-s parce
  qu’ils/elles s’obstinent à nous dire juste ce que « nous savons d
 éjà ».\n\nLa représentation qu’on se fait d’une injustice est dé
 terminée par le regard qu’on y porte. Il nous faut donc provoquer\, sec
 ouer et réveiller notre regard\, il nous faut ôter la couche de poussiè
 re qui couvre ce que « nous savons déjà » et redécouvrir les femme
 s dans toute leur grandeur et avec toute la considération qui leur est du
 e.\n\nL’art du conte nous invite\, pour un instant\, à fermer les yeux 
 et à nous distancier du réel. C’est bien sa force\, car curieusement c
 ’est en plongeant dans le mensonge que le conte touche et appréhende un
 e vérité\, sa vérité. ELLE ET MON GENRE n’avance pas des consignes n
 i ne propose une stratégie ou un rapport politique car\, certes\, l’art
  n’a pas le pouvoir de changer la réalité\, mais il peut agiter et sec
 ouer le regard qu’on porte sur elle\, ça oui. ELLE ET MON GENRE présen
 te une série de contes sur des thèmes comme la maternité\, la violence 
 ou la dictature du complexe mode-beauté \; parfois ces contes\, par le 
 biais de la fantaisie et de l’improbable\, s’éloignent de la réalit
 é pour mieux se rapprocher d’elle. Ces contes évoquent les premiers pl
 ans de l’injustice\, ce sont des portraits de femmes comme madame et mon
 sieur tout-le-monde qui\, avec leur tendresse\, leurs blessures et leur gl
 oire\, font face à l’injustice et à ses contradictions. Avec curiosit
 é et respect\, ELLE ET MON GENRE expose sur scène des éléments de réf
 lexion et laisse au spectateur le soin de composer lui-même les conclusio
 ns et les leçons à en tirer.\n\nELLE ET MON GENRE propose un regard sur 
 la réalité des femmes. C’est\, certes\, le regard d’un homme\, blanc
  en plus\, hétérosexuel en principe\, avec un passeport européen\, rés
 ident belge et de surcroît cata- lan ! Mais ce regard\, mon regard\, est
  comme mon identité\, toujours à la merci de l’empathie\, car si je su
 is Alberto Garcia\, il m’arrive d’être Salvador Allende\, il m’arri
 ve d’être Palestinien\, ou d’être noir\, Indien ou homosexuel\, il m
 ’arrive d’être le jeune homme qui cherche son premier emploi\, l’ha
 ndicapé devant un ascenseur en panne\, la femme agressée qui cache un bl
 eu derrière une mèche de cheveux\, l’enfant lors de son premier jour d
 ’école \; j’étais Charlie\, et je serai toujours Hiroshima et Ausc
 hwitz. Dans ce sens\, et même s’il appartient en premier lieu aux femme
 s d’être les architectes de leur propre « libération »\, je suis 
 les femmes\, nous sommes les femmes. Les injustices qu’elles subissent s
 ont ancrées dans les tripes de l’humanité entière\, elles sont « n
 os » injustices et nous\, hommes et femmes\, ne pouvons pas y être indi
 fférents\, puisque la lutte pour les droits des femmes est intimement li
 ée à la lutte pour les droits de l’humanité.\n\nSi l’on considère 
 l’histoire de l'Occident\, on voit que les droits des femmes ont beaucou
 p avancé\, c’est indéniable. Mais ces droits sont terriblement fragile
 s et nous nous devons d’avoir toujours bien présents à l’esprit les 
 propos de Simone de Beauvoir :\n\n« N’oubliez jamais qu’il suffira 
 d’une crise politique\, économique ou religieuse pour que les droits de
 s femmes soient remis en question. Ces droits ne sont jamais acquis. Vous 
 devrez rester vigilantes votre vie durant ».\n\nAvec ELLE ET MON GENRE\,
  j’apporte ma pierre à l’édifice.\n\n&nbsp\;\nAlberto García Sánch
 ez
ATTACH;FMTTYPE=image/jpeg:http://www.le-garric.fr/wp-content/uploads/2021/
 07/Elle-et-mon-genre.jpg
CATEGORIES:Théatre
LOCATION:Espace Lucie Aubrac\, 15 Route de Valderies\, LE GARRIC\, 81450\, 
 France
X-APPLE-STRUCTURED-LOCATION;VALUE=URI;X-ADDRESS=15 Route de Valderies\, LE 
 GARRIC\, 81450\, France;X-APPLE-RADIUS=100;X-TITLE=Espace Lucie Aubrac:geo
 :0,0
END:VEVENT
BEGIN:VTIMEZONE
TZID:Europe/Paris
X-LIC-LOCATION:Europe/Paris
BEGIN:DAYLIGHT
DTSTART:20210328T030000
TZOFFSETFROM:+0100
TZOFFSETTO:+0200
TZNAME:CEST
END:DAYLIGHT
END:VTIMEZONE
END:VCALENDAR