BEGIN:VCALENDAR
VERSION:2.0
PRODID:-//wp-events-plugin.com//7.2.3.1//EN
TZID:Europe/Paris
X-WR-TIMEZONE:Europe/Paris
BEGIN:VEVENT
UID:91@le-garric.fr
DTSTART:20171125T183000Z
DTEND:20171125T183000Z
DTSTAMP:20221220T125040Z
URL:http://www.le-garric.fr/events/soiree-vin-primeur/
SUMMARY:Soirée Vin Primeur
DESCRIPTION:Le comité des fêtes organise une soirée Vin primeur\nle same
 di 25 novembre à partie de 19:30 salle Lucie Aubrac\nTarifs : 18€ (10
 € pour les enfants de moins de 10 ans)\nMenu : Apéritif\, salade garric
 oise\, jambon braisé et son gratin dauphinois\, verrine d'automne et caf
 é\nRESERVATIONS au 06.88.58.35.74 ou au 06.59.04.16.32 avant le 22 novemb
 re
ATTACH;FMTTYPE=image/jpeg:http://www.le-garric.fr/wp-content/uploads/2017/
 10/primeur2017.jpg
CATEGORIES:Animation
LOCATION:Stade Michel Olivié\, rue Jules Ferry\, le garric\, 81450\, Franc
 e
GEO:44.01187097548154;2.1657515714111923
X-APPLE-STRUCTURED-LOCATION;VALUE=URI;X-ADDRESS=rue Jules Ferry\, le garric
 \, 81450\, France;X-APPLE-RADIUS=100;X-TITLE=Stade Michel Olivié:geo:44.0
 1187097548154,2.1657515714111923
END:VEVENT
END:VCALENDAR