BEGIN:VCALENDAR
VERSION:2.0
PRODID:-//wp-events-plugin.com//7.2.3.1//EN
TZID:Europe/Paris
X-WR-TIMEZONE:Europe/Paris
BEGIN:VEVENT
UID:90@le-garric.fr
DTSTART:20171124T193000Z
DTEND:20171124T193000Z
DTSTAMP:20221220T125040Z
URL:http://www.le-garric.fr/events/sanseverino-delinquante-les-idiots/
SUMMARY:SANSEVERINO / DELINQUANTE / LES IDIOTS
DESCRIPTION:VENDREDI 24 NOVEMBRE à 20h30\nEntrée à 25 € / 22 € tarif
  réduit (demandeurs d’emploi\, groupe de 10\, étudiants)\nMaison de la
  Musique / Cap’Découverte\n81450 LE GARRIC\n*** renseignements 05 63 80
  29 01 ***\n\nAprès avoir délibérément « quitté le swing parce que 
 c’était devenu la mode »\, tourné en big band\, en trios d’accord
 éons et autre Bluegrass band\, SANSEVERINO s'adonne au Blues et à l’ha
 rmonica pour son nouveau répertoire. Sauvage\, virtuose\, caustique et t
 oujours plein de vie le monsieur !Marko Balland\, harmonica | Stephane Huc
 hard\, drums | Christophe Cravero\, orgue/violonSANSEVERINO aime aussi pro
 diguer son savoir-faire d’homme de studio et de scène\, auprès d’art
 istes en phase de création. Deux formations tarnaises ont eu la chance d
 ’en bénéficier. Il était donc incontournable de rassembler tout ce pe
 tit monde sur la scène de la Maison de la Musique.Deux belles premières 
 parties vous sont donc proposées… DELINQUANTE et LES IDIOTS« Femme 
 »\, nouvelle création du duo DELINQUANTE\, est tout à leur image. 2 fem
 mes\, 2 copines\, 2 sœurs aussi complices que généreuses\, tendres que 
 pétillantes\, trash que raffinées… une ambiance finement déjantée\, 
 avec comme leitmotiv le goût de la vie.Actualité\, vice et sensualité
 … qu’ils disent ! Ce sont les thèmes de prédilection des chansons de
 s IDIOTS. L’un a une grosse voix tendre\, l’autre l’ouï fine et la 
 guitare précise. Ces deux membres d'Opium Du Peuple\, habitués de la sc
 ène punk-rock\, sont passés à l'acoustique…
ATTACH;FMTTYPE=image/jpeg:http://www.le-garric.fr/wp-content/uploads/2017/
 11/sanseverino2017.jpg
CATEGORIES:Concert
LOCATION:Maison de la Musique - Cap Découverte\, Cap découverte\, le garr
 ic\, 81450\, France
GEO:44.014818843526534;2.139764644457955
X-APPLE-STRUCTURED-LOCATION;VALUE=URI;X-ADDRESS=Cap découverte\, le garric
 \, 81450\, France;X-APPLE-RADIUS=100;X-TITLE=Maison de la Musique - Cap D
 écouverte:geo:44.014818843526534,2.139764644457955
END:VEVENT
END:VCALENDAR