BEGIN:VCALENDAR
VERSION:2.0
PRODID:-//wp-events-plugin.com//7.2.3.1//EN
TZID:Europe/Paris
X-WR-TIMEZONE:Europe/Paris
BEGIN:VEVENT
UID:94@le-garric.fr
DTSTART:20171223T190000Z
DTEND:20171223T190000Z
DTSTAMP:20221220T125040Z
URL:http://www.le-garric.fr/events/rock-for-xmas-2017/
SUMMARY:ROCK for XMAS 2017
DESCRIPTION:Huitième édition du ROCK for XMAS\, concert des élèves de l
 'école de musique "Muzik Addicted".\n\nLe mot clef ? Éclectisme !! Jugez
  plutôt :\nBON JOVI - DAVID BOWIE - MEGADETH - BLOC PARTY - KILLING JOKE 
 - CALVIN HARRIS - INDOCHINE - EMINEM - GUNS N ROSES - PAPA ROACH - BONNIE 
 TYLER - DIRESTRAITS - GOLDMAN - DEE LITE - METALLICA - ADELE - DALIDA - IM
 AGINE DRAGONS - PRETTY VICIOUS - PLAN B - the REGRETTES - COOLIO - JOHN LE
 NNON - LAMB OF GOD - the CARDIGANS - THOUSAND FOOT KRUTCH - SHANIA TWAIN -
  ELVIS - the BEATLES -\nGREASE - KENNY LOGGINS - OFFSPRING - PAT BENATAR -
  POLICE - SHAKA PONK - the KINKS
ATTACH;FMTTYPE=image/jpeg:http://www.le-garric.fr/wp-content/uploads/2017/
 11/rockforchristmas2017.jpg
CATEGORIES:Concert
LOCATION:Maison de la Musique - Cap Découverte\, Cap découverte\, le garr
 ic\, 81450\, France
GEO:44.014818843526534;2.139764644457955
X-APPLE-STRUCTURED-LOCATION;VALUE=URI;X-ADDRESS=Cap découverte\, le garric
 \, 81450\, France;X-APPLE-RADIUS=100;X-TITLE=Maison de la Musique - Cap D
 écouverte:geo:44.014818843526534,2.139764644457955
END:VEVENT
END:VCALENDAR