BEGIN:VCALENDAR
VERSION:2.0
PRODID:-//wp-events-plugin.com//7.2.3.1//EN
TZID:Europe/Paris
X-WR-TIMEZONE:Europe/Paris
BEGIN:VEVENT
UID:98@le-garric.fr
DTSTART:20180404T193000Z
DTEND:20180404T220000Z
DTSTAMP:20221220T125040Z
URL:http://www.le-garric.fr/events/reunion-pour-lattribution-des-salles/
SUMMARY:Réunion pour l'attribution des salles
DESCRIPTION:Réunion des associations avec la Mairie pour décider de l'att
 ribution des salles pour la saison 2018/19
CATEGORIES:( Autre )
LOCATION:Stade Michel Olivié\, rue Jules Ferry\, le garric\, 81450\, Franc
 e
GEO:44.01187097548154;2.1657515714111923
X-APPLE-STRUCTURED-LOCATION;VALUE=URI;X-ADDRESS=rue Jules Ferry\, le garric
 \, 81450\, France;X-APPLE-RADIUS=100;X-TITLE=Stade Michel Olivié:geo:44.0
 1187097548154,2.1657515714111923
END:VEVENT
END:VCALENDAR