BEGIN:VCALENDAR
VERSION:2.0
PRODID:-//wp-events-plugin.com//7.2.3.1//EN
TZID:Europe/Paris
X-WR-TIMEZONE:Europe/Paris
BEGIN:VEVENT
UID:5@le-garric.fr
DTSTART;TZID=Europe/Paris:20200902T203000
DTEND;TZID=Europe/Paris:20200902T220000
DTSTAMP:20221220T125042Z
URL:http://www.le-garric.fr/events/reunion-de-planification-de-reservation
 -des-salles/
SUMMARY:Réunion de planification
DESCRIPTION:
ATTACH;FMTTYPE=image/jpeg:http://www.le-garric.fr/wp-content/uploads/2014/
 05/visuel_salle_lucie_aubrac.jpg
CATEGORIES:( Autre )
LOCATION:Espace Lucie Aubrac\, 15 Route de Valderies\, LE GARRIC\, 81450\, 
 France
X-APPLE-STRUCTURED-LOCATION;VALUE=URI;X-ADDRESS=15 Route de Valderies\, LE 
 GARRIC\, 81450\, France;X-APPLE-RADIUS=100;X-TITLE=Espace Lucie Aubrac:geo
 :0,0
END:VEVENT
BEGIN:VTIMEZONE
TZID:Europe/Paris
X-LIC-LOCATION:Europe/Paris
BEGIN:DAYLIGHT
DTSTART:20200329T030000
TZOFFSETFROM:+0100
TZOFFSETTO:+0200
TZNAME:CEST
END:DAYLIGHT
END:VTIMEZONE
END:VCALENDAR