BEGIN:VCALENDAR
VERSION:2.0
PRODID:-//wp-events-plugin.com//7.2.3.1//EN
TZID:Europe/Paris
X-WR-TIMEZONE:Europe/Paris
BEGIN:VEVENT
UID:84@le-garric.fr
DTSTART:20170519T180000Z
DTEND:20170519T180000Z
DTSTAMP:20221220T125039Z
URL:http://www.le-garric.fr/events/rencontres-departementales-danse-a-leco
 le-college/
SUMMARY:RENCONTRES Départementales DANSE à l’Ecole & Collège
DESCRIPTION:VENDREDI 19 MAI à 19h00\nEntrée gratuite pas de réservation\
 n\n\nMaison de la Musique / Cap’Découverte\n\n\n\n\n\n&nbsp\;\n81450 LE
  GARRIC\n\n*** renseignements au 05 63 77 32 18***\n \nL’œil écoute\,
  le corps parle…\nLes rencontres départementales danse à l’école et
  au collège sont organisées par l’ADDA du Tarn\, la DSDEN et la Maison
  de la musique\n \nLes classes des écoles\, des collèges et de CLE pré
 sentent leurs compositions aux côtés des artistes invités :  \nSeront
  présentes Carmaux Loisirs Enfance\, Ecoles JB Calvignac\, Jean. Jaurès\
 , Jean Moulin de Carmaux\,\n2 classes de Cunac\, le Collège Balzac d’Al
 bi et le Collège St Sulpice.\n \nLa Cie Labkine (Valeria Giuga\, Roméo 
 Agid\, J-Michel Espitallier) présentera « She was dancing » et la Cie
  Camargo (Dominique Rebaud\, avec Sonia Duschesne et Gaëlle Hourdel) une 
 scène Hip Hop « Age d’Or ».\n \nProposées par l’ADDA du Tarn et
  la Direction des Services Départementaux de l’Education Nationale\, en
  partenariat avec le SMAD Cap’Découverte\, Espace Apollo\, les mairies 
 de Carmaux\, Gaillac\, Graulhet\, St Sulpice\, Castres\, Albi\, près de 3
  000 élèves du Tarn\, de la maternelle au collège\, se rencontrent dans
  le temps scolaire et en soirée\, dans 7 lieux du département : Mazamet\
 , Graulhet\, Gaillac\, Castres\, Cap’Découverte-Carmaux\, Albi\, St Sul
 pice. Les classes regardent\, écoutent\, échangent et présentent leur c
 horégraphie aux côtés d’artistes invités.\n\nElèves et professeurs 
 de plus de 130 classes des écoles élé­mentaires et collèges tarnais s
 uivent un parcours. Ils pra­tiquent la danse régulièrement en ateliers\
 , sont accompa­gnés par des artistes\, voient des spectacles.\n\nEntre l
 e mois de mai et de juin\, les classes se retrouvent aux Rencontres Dépar
 tementales Danse à l’école et au collège pour présenter le fruit de 
 leur travail.\n\nCheminant chacun à leur ma­nière\, de la lecture d’
 œuvres\, au plaisir de jouer d’un art à l’autre\, élèves et artist
 es s’aventurent dans tous les sens sur les voies de l’imaginaire\, et 
 inventent des mondes.\nSpectacles et artistes invités\n- Eric Lareine et 
 Patricia Ferrara (Danse chanson poésie à partir du Bateau ivre d'A. Rimb
 aud)- She was dancing  V. Giuga et le poète JM Espitallier- L'âge d'or
   D. Rebaud d'après A. Rimbaud- So Schnell  D. Bagouet par la formation
  Coline
CATEGORIES:Animation
LOCATION:Maison de la Musique - Cap Découverte\, Cap découverte\, le garr
 ic\, 81450\, France
GEO:44.014818843526534;2.139764644457955
X-APPLE-STRUCTURED-LOCATION;VALUE=URI;X-ADDRESS=Cap découverte\, le garric
 \, 81450\, France;X-APPLE-RADIUS=100;X-TITLE=Maison de la Musique - Cap D
 écouverte:geo:44.014818843526534,2.139764644457955
END:VEVENT
END:VCALENDAR