BEGIN:VCALENDAR
VERSION:2.0
PRODID:-//wp-events-plugin.com//7.2.3.1//EN
TZID:Europe/Paris
X-WR-TIMEZONE:Europe/Paris
BEGIN:VEVENT
UID:89@le-garric.fr
DTSTART:20171103T193000Z
DTEND:20171103T193000Z
DTSTAMP:20221220T125040Z
URL:http://www.le-garric.fr/events/pinocchio/
SUMMARY:«PINOCCHIO»
DESCRIPTION:Opéra Fantastique de Gilles RamadeVENDREDI 3 NOVEMBRE à 20h30
 \nTarifs : gratuit\nMaison de la Musique / Cap Découverte\n81450 LE GARR
 IC\n*** renseignements 05 63 80 29 01 ***\n \nS’inspirant du roman de 
 Collodi\, Gilles Ramade offre avec ce nouvel opéra fantastique\, une lect
 ure alternative à l’adaptation de Walt Disney.\n\nPinocchio\, à traver
 s les décors de la comedia dell’arte et de Guignol\, va vivre une avent
 ure palpitante aux rythmes trépidants de « sa vie ».\nDrôle\, terrif
 iante et émouvante\, cette histoire nous replonge dans nos rêves et nos 
 angoisses d’enfants. La musique directement inspirée du cinéma italien
  des années 60 concourt aux différents univers fantastiques de l’ouvra
 ge.\n\nPinocchio\, est une marionnette qui veut devenir un enfant\, ou peu
 t être un enfant qui se sent une marionnette. Il décide de devenir une m
 arionnette sans fil… une marionnette asociale\, une marionnette sauvage.
 \n\nC’est l’histoire d’un orphelin adopté par une fée et d’une 
 éducation ratée\, d’un garçon rejeté par ses camarades (qui lui repr
 ochent d’être un étranger et de trop bien travailler).\n\nUne œuvre u
 niverselle emprunte d’un message de tolérance et d’humanité où tous
  les ingrédients sont réunis afin de mettre en garde la jeunesse des dan
 gers qui la guettent\, et de ne pas être le jouet des mauvaises influence
 s.\n\nAu-delà des aventures de la marionnette les messages de cette œuvr
 e sont nombreux.\nLes gammes multiples déployées dans cet opéra répond
 ent au genre outrancier où l’on doit aller toujours plus haut\, plus fo
 rt\, plus triste ou plus comique.\n\nLe ténor italien trouve naturellemen
 t sa place dans cette histoire musicale qui se déroule en Italie. Pinocch
 io court\, s’enfuit toujours\, imposant une musique nouvelle et surprena
 nte pour chacune de ses mésaventures.\n\nUn spectacle captivant où les e
 nfants s’impliquent…\nChaque année\, l'équipe de la Cie Figaro &amp\
 ; CO met en scène les collégiens volontaires qui\, encadrés d'une troup
 e d'authentiques comédiens vont donner le meilleur d'eux-mêmes pour ce s
 pectacle\, un vrai travail artistique !\n\n\nUn opéra fantastique de Gill
 es RamadeD'après le roman de CollodiMise en scène : Gilles RamadeAvec : 
 Johann Nicol\, Alexandre Papaïs\, Frédéric Mazotta\, et les enfants des
  collèges sollicitées.
CATEGORIES:Concert
LOCATION:Maison de la Musique - Cap Découverte\, Cap découverte\, le garr
 ic\, 81450\, France
GEO:44.014818843526534;2.139764644457955
X-APPLE-STRUCTURED-LOCATION;VALUE=URI;X-ADDRESS=Cap découverte\, le garric
 \, 81450\, France;X-APPLE-RADIUS=100;X-TITLE=Maison de la Musique - Cap D
 écouverte:geo:44.014818843526534,2.139764644457955
END:VEVENT
END:VCALENDAR