BEGIN:VCALENDAR
VERSION:2.0
PRODID:-//wp-events-plugin.com//7.2.3.1//EN
TZID:Europe/Paris
X-WR-TIMEZONE:Europe/Paris
BEGIN:VEVENT
UID:8@le-garric.fr
DTSTART;TZID=Europe/Paris:20200821T193000
DTEND;TZID=Europe/Paris:20200821T220000
DTSTAMP:20221220T125041Z
URL:http://www.le-garric.fr/events/nocturne-au-lac-de-capdecouverte-2/
SUMMARY:Nocturne au lac de Cap'Découverte
DESCRIPTION:NOCTURNE le Vendredi 21 août de 19h30 à 22h\nSOIRÉE MUSICALE
  SUR LA PLAGE\navec\nTHE MONEY MAKERS\n(Rock 50’s)\n\nAmbiance assurée 
 avec ces quatre amis albigeois !\nRhythm'n'blues et Rock'n'roll 50's les M
 oney Makers s'inscrivent parfaitement dans la mouvance actuelle du revival
  de ce style musical.\n\nConcert gratuit\nBar et restauration sur place à
  la Paillote
ATTACH;FMTTYPE=image/jpeg:http://www.le-garric.fr/wp-content/uploads/2020/
 07/nocturnes-cap2020-3.jpg
CATEGORIES:Concert
LOCATION:Lac de Cap'Découverte\, Lac de Cap'Découverte\, Le Garric\, Fran
 ce
X-APPLE-STRUCTURED-LOCATION;VALUE=URI;X-ADDRESS=Lac de Cap'Découverte\, Le
  Garric\, France;X-APPLE-RADIUS=100;X-TITLE=Lac de Cap'Découverte:geo:0,0
END:VEVENT
BEGIN:VTIMEZONE
TZID:Europe/Paris
X-LIC-LOCATION:Europe/Paris
BEGIN:DAYLIGHT
DTSTART:20200329T030000
TZOFFSETFROM:+0100
TZOFFSETTO:+0200
TZNAME:CEST
END:DAYLIGHT
END:VTIMEZONE
END:VCALENDAR