BEGIN:VCALENDAR
VERSION:2.0
PRODID:-//wp-events-plugin.com//7.2.3.1//EN
TZID:Europe/Paris
X-WR-TIMEZONE:Europe/Paris
BEGIN:VEVENT
UID:52@le-garric.fr
DTSTART:20160421T190000Z
DTEND:20160421T213000Z
DTSTAMP:20221220T125035Z
URL:http://www.le-garric.fr/events/master-class-guitare/
SUMMARY:MASTER CLASS Guitare
DESCRIPTION:CHRISTIAN ANDREU (de GOJIRA)\nUne co-réalisation Muzik Addicte
 d\, Maison de la Musique SMAD &amp\; Pollux / XFest Organisation\nJeudi 21
  avril à 20h00\nTarif unique : 10 €\n81450 LE GARRIC\n*** réservation
 s au 05 63 80 29 01 ou contact@capdecouverte.com ***\n\n\nL’École de Mu
 zik Addicted\, l’équipe de la Maison de la Musique (SMAD) et l’associ
 ation Pollux accueilleront en exclusivité le guitariste du groupe GOJIRA 
 Christian Andreu\, le Jeudi 21 avril à 20h\, à la Maison de la Musique\,
  dans le cadre d'une Master Class Guitare.\n\nAu programme : 1H30 de démo
 nstration technique et d'interaction avec le public.\n \nLe célèbre gui
 tariste jouera en live certaines compositions du groupe "Gojira" pour dét
 ailler la technique spécifiquement utilisée sur chaque morceau.\n\nAtten
 tion\, places limitées. Réservations obligatoires au 05 63 80 29 01.\nAv
 is aux musiciens\, fans du groupe\, curieux\, amoureux de la guitare\, de 
 la musique….\n
CATEGORIES:Concert
LOCATION:Maison de la Musique - Cap Découverte\, Cap découverte\, le garr
 ic\, 81450\, France
GEO:44.014818843526534;2.139764644457955
X-APPLE-STRUCTURED-LOCATION;VALUE=URI;X-ADDRESS=Cap découverte\, le garric
 \, 81450\, France;X-APPLE-RADIUS=100;X-TITLE=Maison de la Musique - Cap D
 écouverte:geo:44.014818843526534,2.139764644457955
END:VEVENT
END:VCALENDAR