BEGIN:VCALENDAR
VERSION:2.0
PRODID:-//wp-events-plugin.com//7.2.3.1//EN
TZID:Europe/Paris
X-WR-TIMEZONE:Europe/Paris
BEGIN:VEVENT
UID:67@le-garric.fr
DTSTART:20161125T200000Z
DTEND:20161125T220000Z
DTSTAMP:20221220T125037Z
URL:http://www.le-garric.fr/events/vendredi-electriques/
SUMMARY:Vendredi électriques
DESCRIPTION:Concerts proposés par RockTime et Cap’Découverte SMAD\nVend
 redi 25 novembre à 21h00\nTarif : 8 € (pas de pré-vente)\nMaison de la
  Musique / Cap Découverte\n81450 LE GARRIC\n*** renseignements 05 63 38 2
 7 45 ***\n\nUne soirée teintée de rock avec deux formations régionales 
 « Les Ennuis Commencent »\, véritable référence depuis des décennies
  du Rockab' (mais pas que)\, et « I Me Mine » fleuron de la néo scène 
 pop toulousaine\, voilà ce que propose l'association Rocktime et Cap'Déc
 ouverte SMAD\, avant le début de l'hiver.\n\n« On s'appelle Les Ennuis C
 ommencent\, on fait du Rock'N Roll et on vient de Decazeville ».\nVoilà 
 près de 20 ans qu'Atomic Ben\, leader charismatique du boys band\, démar
 re ses concerts avec ce genre d'apostrophes et enchaine avec sa troupe (Ar
 no KLX\, Hugo le Kid et Guillermo Del Mojo) ses propres chansons Rockabill
 y\, banane en avant\, hommage à l'immortel Elvis Presley.\n\nReprises vit
 aminées des pionniers du Rock\, histoire de cœur en espagnol\, et clins 
 d'œil aux groupes français références (les regrettés Dogs ou les ruth
 énois de Jezebel-Rock)\, viennent compléter un set résolument énergiqu
 e\, classe et précis.\n\nUn show convivial pour le plus grand bonheur d'u
 n public fidèle et éclectique qui mélange garçons et filles\, bobos et
  babas\, teenagers et quinquas\, rockers et poètes...\n\nPeut-être ont-i
 ls choisi ce nom pour affirmer d'emblée leurs ambitions. Car I Me Mine\, 
 c'est aussi le titre d'une des chansons du dernier album des Beatles « Le
 t It Be ».\nLes trois garçons revisitent les années 60\, mais pas que..
 . les mélodies empreintes de psychédélisme et autres refrains percutant
 s sont parfois dopés à l'Electro\, histoire d'insuffler une énergie sup
 plémentaire à ces chansons qui flirtent déjà avec un certain classicis
 me.\n\nSite web : http://www.rocktime.org/index.php/concerts/saison-2016/p
 ar-s-ailleurs/2016-07-01-13-43-59.html
CATEGORIES:Concert
LOCATION:Maison de la Musique - Cap Découverte\, Cap découverte\, le garr
 ic\, 81450\, France
GEO:44.014818843526534;2.139764644457955
X-APPLE-STRUCTURED-LOCATION;VALUE=URI;X-ADDRESS=Cap découverte\, le garric
 \, 81450\, France;X-APPLE-RADIUS=100;X-TITLE=Maison de la Musique - Cap D
 écouverte:geo:44.014818843526534,2.139764644457955
END:VEVENT
END:VCALENDAR