BEGIN:VCALENDAR
VERSION:2.0
PRODID:-//wp-events-plugin.com//7.2.3.1//EN
TZID:Europe/Paris
X-WR-TIMEZONE:Europe/Paris
BEGIN:VEVENT
UID:69@le-garric.fr
DTSTART:20161217T190000Z
DTEND:20161217T223000Z
DTSTAMP:20221220T125037Z
URL:http://www.le-garric.fr/events/concert-rock-for-xmas/
SUMMARY:Concert Rock for XMas
DESCRIPTION:Le samedi 17 décembre 2016 à la maison de la musique de Cap'
 Découverte\n\nIls reviennent !!\nDeux fois par an\, sur la grande scène 
 de la Maison de la Musique\,  les élèves de Muzik Addicted reprennent l
 es standards qui ont enflammés les plus grandes scènes mondiales.\n\nL'
 édition de Noël intitulée " Rock For XMas" sera de retour le samedi 17 
 décembre.\n\nInoubliables\, pour les apprentis musiciens/chanteurs et les
  profs\, ces concerts sont de beaux moments de convivialité et d'émotion
 .\nLes élèves vont jouer des morceaux en groupe\, choisis en début de s
 aison : Pink\, U2\, Chuck Berry\, Europe\, Jain\, Métallica...\nUn joyeux
  mélange de styles interprétés avec conviction\, une énergie communica
 tive se dégage des groupes.\n\nTarifs : 6€ en gradin / 4€ en fosse\n\
 nUn rendez à ne pas manquer...
CATEGORIES:Concert
LOCATION:Maison de la Musique - Cap Découverte\, Cap découverte\, le garr
 ic\, 81450\, France
GEO:44.014818843526534;2.139764644457955
X-APPLE-STRUCTURED-LOCATION;VALUE=URI;X-ADDRESS=Cap découverte\, le garric
 \, 81450\, France;X-APPLE-RADIUS=100;X-TITLE=Maison de la Musique - Cap D
 écouverte:geo:44.014818843526534,2.139764644457955
END:VEVENT
END:VCALENDAR