BEGIN:VCALENDAR
VERSION:2.0
PRODID:-//wp-events-plugin.com//7.2.3.1//EN
TZID:Europe/Paris
X-WR-TIMEZONE:Europe/Paris
BEGIN:VEVENT
UID:6@le-garric.fr
DTSTART;TZID=Europe/Paris:20200807T193000
DTEND;TZID=Europe/Paris:20200807T223000
DTSTAMP:20221220T125041Z
URL:http://www.le-garric.fr/events/linstant-baloche-nocturne-au-bord-lac-d
 e-capdecouverte/
SUMMARY:Nocturne au lac de Cap'Découverte
DESCRIPTION:SOIRÉE MUSICALE SUR LA PLAGE de 19h30 à 22h\navec le groupe L
 ’INSTANT BALOCHE\nMusique fantaisiste\n(Folk et Groove)\n\nBien connus d
 ans le off de Pause guitare\, les quatre compères nous régalent avec leu
 rs reprises du grand répertoire pop rock des années 70 – 80. Ils repre
 nnent les titres qu’ils aiment\, ambiance et bonne humeur garanties !\n\
 nConcert Gratuit\nBar et restauration sur place
ATTACH;FMTTYPE=image/jpeg:http://www.le-garric.fr/wp-content/uploads/2020/
 07/nocturnes-cap2020-1.jpg
CATEGORIES:Concert
LOCATION:Lac de Cap'Découverte\, Lac de Cap'Découverte\, Le Garric\, Fran
 ce
X-APPLE-STRUCTURED-LOCATION;VALUE=URI;X-ADDRESS=Lac de Cap'Découverte\, Le
  Garric\, France;X-APPLE-RADIUS=100;X-TITLE=Lac de Cap'Découverte:geo:0,0
END:VEVENT
BEGIN:VTIMEZONE
TZID:Europe/Paris
X-LIC-LOCATION:Europe/Paris
BEGIN:DAYLIGHT
DTSTART:20200329T030000
TZOFFSETFROM:+0100
TZOFFSETTO:+0200
TZNAME:CEST
END:DAYLIGHT
END:VTIMEZONE
END:VCALENDAR