BEGIN:VCALENDAR
VERSION:2.0
PRODID:-//wp-events-plugin.com//7.2.3.1//EN
TZID:Europe/Paris
X-WR-TIMEZONE:Europe/Paris
BEGIN:VEVENT
UID:88@le-garric.fr
DTSTART:20170711T193000Z
DTEND:20170711T193000Z
DTSTAMP:20221220T125039Z
URL:http://www.le-garric.fr/events/les-choeurs-de-larmee-rouge/
SUMMARY:Les Chœurs de l’Armée Rouge
DESCRIPTION:Chœur et Orchestre\n\nMARDI 11 JUILLET à 20h30\n\n\n\nEntrée
  gratuite sur www.digitick.com\, dans la limite des places disponibles\nMa
 ison de la Musique / Cap’Découverte\n81450 LE GARRIC\n\n\n*** renseigne
 ments au\n\n05 63 80 29 01\n***\n\nC'est dans le cadre du festival Révolu
 tion(s)\, en collaboration avec le Festival Radio France Occitanie Montpel
 lier\, que la Maison de la Musique de Cap' Découverte accueillera en Juil
 let prochain les Chœurs de l'Armée Rouge.\n\n«  Révolution(s)  » es
 t en effet le thème principal choisi par Jean-Pierre Rousseau\, directeur
  du festival.\n\nIl est assurément fait référence à la Révolution d
 ’Octobre\, mais également à bien d’autres bouleversements survenus e
 n 1917. La Russie se trouvant au centre de ce festival\, le choix des Chœ
 urs de l’Armée Rouge apparaît de ce fait comme une évidence.\n\nFond
 é il y a bientôt 80 ans\, l'Ensemble Académique comporte près de 350 c
 hanteurs\, danseurs et musiciens. Loin de demeurer figés\, les Chœurs de
  l'Armée Rouge ont su résister à l'épreuve du temps en affirmant leur 
 volonté d'allier tradition et modernité. Mêlant brillamment mélodies t
 raditionnelles du folklore russe\, chants patriotiques ou encore célèbre
 s airs classiques\, l'Ensemble Académique s'impose internationalement.\n\
 nAinsi\, leur inégalable prestation de « Get Lucky » lors de l’ouvert
 ure des Jeux Olympiques de Sotchi\, en 2014\, ou encore leurs régulières
  tournées en zones de conflits\, comme l’Afghanistan\, ont su marquer l
 es esprits et les cœurs.\n\nLa Maison de la Musique est heureuse d'enrich
 ir encore la diversité de ses programmations.\n\nLes Chœurs de l'Armée 
 Rouge interpréteront Les Nuits de Moscou le 11 Juillet à 20h30.\n\nEntr
 ée libre et gratuite dans la limite des places disponibles\nBilletterie e
 n ligne : http://www.digitick.com/les-nuits-de-moscou-ch-urs-de-l-armee-r
 ouge-festival-maison-de-la-musique-le-garric-css4-digitick-pg101-ri4753347
 .html\n
CATEGORIES:Concert
LOCATION:Maison de la Musique - Cap Découverte\, Cap découverte\, le garr
 ic\, 81450\, France
GEO:44.014818843526534;2.139764644457955
X-APPLE-STRUCTURED-LOCATION;VALUE=URI;X-ADDRESS=Cap découverte\, le garric
 \, 81450\, France;X-APPLE-RADIUS=100;X-TITLE=Maison de la Musique - Cap D
 écouverte:geo:44.014818843526534,2.139764644457955
END:VEVENT
END:VCALENDAR