BEGIN:VCALENDAR
VERSION:2.0
PRODID:-//wp-events-plugin.com//7.2.3.1//EN
TZID:Europe/Paris
X-WR-TIMEZONE:Europe/Paris
BEGIN:VEVENT
UID:73@le-garric.fr
DTSTART:20170226T150000Z
DTEND:20170226T150000Z
DTSTAMP:20221220T125038Z
URL:http://www.le-garric.fr/events/le-preambule-des-etourdis/
SUMMARY:LE PREAMBULE DES ETOURDIS
DESCRIPTION:Cie Hipollyte a mal au cœur\nEcrit et mis en scène par Estell
 e Savasta\nDimanche 26 février à 16h00\nTarifs : 12 € - 8 € (groupe
 s de 10\, CE \, étudiants\, demandeurs d’emploi)\nà la Maison de la M
 usique à Cap Découverte\n81450 LE GARRIC\n*** renseignements 05 63 80 29
  01 ***\n \n \nAnatole traîne toujours derrière lui sa petite cassero
 le. Une petite casserole qui intrigue\, éloigne ou effraie. Une casserole
  qui demande du temps\, complique la vie\, empêche parfois d’avancer\, 
 de dormir ou d’embrasser.\nAutour d’Anatole il y a les autres. Ceux qu
 i s’inquiètent\, ceux qui rigolent. Ceux qui médisent\, tricotent\, ch
 uchotent. Et puis il y a Miette…\n \nLe Préambule des étourdis est un
 e très libre adaptation du magnifique album jeunesse La petite casserole 
 d’Anatole de Julie Carrier.\n \nC’est un projet pour mettre joyeuseme
 nt nos casseroles au pied du mur et les pousser dans leurs derniers retran
 chements. C’est l’histoire de nos handicaps minuscules\, de l’union 
 qui fait la force et de la solidarité des ébranlés.\n \nUn spectacle e
 mpreint de sensibilité\, pour transporter toutes les générations dans l
 'univers d'Anatole.\n \n \nUne collaboration ADDA du Tarn / Maison de la
  Musique\n\nEntrées en vente Albilletterie - Tous vos billets\, tous les 
 spectacles !
CATEGORIES:Théatre
LOCATION:Maison de la Musique - Cap Découverte\, Cap découverte\, le garr
 ic\, 81450\, France
GEO:44.014818843526534;2.139764644457955
X-APPLE-STRUCTURED-LOCATION;VALUE=URI;X-ADDRESS=Cap découverte\, le garric
 \, 81450\, France;X-APPLE-RADIUS=100;X-TITLE=Maison de la Musique - Cap D
 écouverte:geo:44.014818843526534,2.139764644457955
END:VEVENT
END:VCALENDAR