BEGIN:VCALENDAR
VERSION:2.0
PRODID:-//wp-events-plugin.com//7.2.3.1//EN
TZID:Europe/Paris
X-WR-TIMEZONE:Europe/Paris
BEGIN:VEVENT
UID:101@le-garric.fr
DTSTART:20180505T180000Z
DTEND:20180505T180000Z
DTSTAMP:20221220T125040Z
URL:http://www.le-garric.fr/events/jumala-la-nuit-devoilee-par-le-choeur-d
 e-chambre-mikrokosmos/
SUMMARY:«JUMALA / LA NUIT DEVOILEE par le Chœur de Chambre  MIKROKOSMOS 
 »
DESCRIPTION:\nSamedi 5 mai 2018 à 19 h\nTarifs plein : 26 €  € / R
 éduit : 15 € (demandeur d’emploi\, groupe de 10\, CE\, Etudiants)\nM
 aison de la Musique 81450 LE GARRIC\n\n\n# Renseignements au 05 63 38 55
  56 - Billetterie Scène Nationale #\n\n\nLa nuit dévoilée fusionne to
 utes les tentatives menées durant bientôt presque 30 ans par Mikrokosmos
  sur l’expérience chorale.\n\n\nConçue comme une grande arche subdivis
 ée en trois moments nocturnes\, cette première partie invite\, rapproche
  et accorde des compositeurs aux esthétiques opposées.\nIci\, les temps 
 se dissolvent\, les artistes s’épousent\, les langues s’entremêlent 
 et les harmonies s’embrassent.\nAprès la pénombre de La Nuit dévoilé
 e\, Jumala convoque une autre lumière\, plus théâtrale et baroque\, une
  lumière rare au service exclusif des visages des chanteurs.\n2ème volet
  de L’origine du monde\, Jumala n’est que somme de réflexions sur 
 la nuit et ses ombres tutélaires. Une aventure inédite pour la troupe de
 s 40 chanteurs âgés de moins de 30 ans\, une scénographie évolutive et
  un nouveau travail sur le théâtre au service de la grande arche rêvée
 .\nPlongés au cœur de la matière chorale\, les spectateurs vibrent au c
 ontact palpable des sons.\nCe Chœur laisse un public surpris et désarço
 nné\, un spectacle créatif et audacieux.\nUne aventure inédite à déco
 uvrir à la Maison de la Musique\, le samedi 5 mai à 19h.\nParticipation 
 des chœurs du Conservatoire de Musique et de Danse du Tarn.\n\nMusiques
  Edvard Grieg\, Jukka Linkola\, Jaakko Mäntyjärvi\, Ørjan Matre\, Mere
 dith Monk\, Grete Pedersen\, Loïc Pierre\, Francis Poulenc\, Guillaume Pr
 ieur\, Joby Talbot\, Veljo Tormis et autres… / Conception et direction 
 musicale Loïc Pierre / Mise en scène Clémentine Amouroux\, Loïc Pie
 rre / AvecLes 40 chanteurs du Choeur Mikrokosmos / Professeur de chant 
 Myriam de Aranjo / Assistant chantEdouard Monjanel
CATEGORIES:Concert
LOCATION:Maison de la Musique - Cap Découverte\, Cap découverte\, le garr
 ic\, 81450\, France
GEO:44.014818843526534;2.139764644457955
X-APPLE-STRUCTURED-LOCATION;VALUE=URI;X-ADDRESS=Cap découverte\, le garric
 \, 81450\, France;X-APPLE-RADIUS=100;X-TITLE=Maison de la Musique - Cap D
 écouverte:geo:44.014818843526534,2.139764644457955
END:VEVENT
END:VCALENDAR