BEGIN:VCALENDAR
VERSION:2.0
PRODID:-//wp-events-plugin.com//7.2.3.1//EN
TZID:Europe/Paris
X-WR-TIMEZONE:Europe/Paris
BEGIN:VEVENT
UID:97@le-garric.fr
DTSTART:20180401T123000Z
DTEND:20180401T170000Z
DTSTAMP:20221220T125040Z
URL:http://www.le-garric.fr/events/grand-prix-cycliste-de-blaye-les-mines-
 17eme-edition/
SUMMARY:« GRAND PRIX CYCLISTE DE BLAYE LES MINES » 17ème édition
DESCRIPTION:Course sur route organisée par le Vélo Blayais\nDimanche 1er
  avril à partir de 13h30\nGratuit pour le public\nSite de Cap Découver
 te 81450 LE GARRIC \nDimanche 1er avril\, le Vélo Blayais organise sa 1
 7me édition du Grand Prix Cycliste de Blaye les Mines.\nLe circuit de co
 urses sur route long de 3\,8 km au profil vallonné\, est usant. En effet\
 , les 1ères et 2èmeS catégories devront gravir 17 fois une côte de
  1 kilomètre\, avec un dénivelé de 67 mètres ?\nLes engagements pour
  la 1ère course commenceront à 12h30. Le 1er départ sera donné à 1
 3h30 pour les minimes et cadets\, féminines\, 5ème et 4ème catégorie
  (13 tours).\nAutour de 15h30\, départ des coureurs 1ère\, 2ème et 3è
 me catégorie pour les fameux 17 tours.\n« Pour finir\, vers 17h30\, le
 s participants recevront leurs récompenses et de nombreux lots\, ce sera 
 aussi l’heure du verre de l’amitié pour couronner cette journée spor
 tive » conclu Jacques Trouillet\, Président du Vélo Club Blayais.\n 
 Les amoureux de la petite reine sont donc invités à venir encourager les
  coureurs (entrée gratuite).\n\nPour les participants : Epreuves FSGT ou
 verte aux licenciés UFOLEP en possession du carton course.\nEngagement :
  5 € FSGT – 7 € UFOLEP
ATTACH;FMTTYPE=image/jpeg:http://www.le-garric.fr/wp-content/uploads/2018/
 03/P1080224.jpg
CATEGORIES:Sport
LOCATION:Eglise de Pouzounac\, Pouzounac\, LE GARRIC\, 81450\, France
GEO:44.019309216545395;2.1901073227538745
X-APPLE-STRUCTURED-LOCATION;VALUE=URI;X-ADDRESS=Pouzounac\, LE GARRIC\, 814
 50\, France;X-APPLE-RADIUS=100;X-TITLE=Eglise de Pouzounac:geo:44.01930921
 6545395,2.1901073227538745
END:VEVENT
END:VCALENDAR