BEGIN:VCALENDAR
VERSION:2.0
PRODID:-//wp-events-plugin.com//7.2.3.1//EN
TZID:Europe/Paris
X-WR-TIMEZONE:Europe/Paris
BEGIN:VEVENT
UID:57@le-garric.fr
DTSTART:20160430T123000Z
DTEND:20160430T180000Z
DTSTAMP:20221220T125035Z
URL:http://www.le-garric.fr/events/grand-prix-cycliste-de-blaye-les-mines-
 15eme-edition/
SUMMARY:« GRAND PRIX CYCLISTE DE BLAYE LES MINES » 15ème édition
DESCRIPTION:Course sur route\nOrganisé par le Vélo Blayais\nSamedi 30 avr
 il à partir de 13h30\nGratuit pour le public\nSite de Cap Découverte 81
 450 LE GARRIC\n \nGrand prix cycliste de Blaye-Cap Découverte\n \nSamed
 i 30 avril\, le Vélo Blayais organise sa 15ème édition du Grand Prix C
 ycliste de Blaye les Mines.\nLe circuit de courses sur route long de 3\,8 
 km au profil vallonné\, est usant.\nEn effet\, les 1ères et 2ème catég
 ories devront gravir 17 fois une côte de 1 kilomètre.\nLes engagements 
 pour la 1ère course commenceront à 13h.\nLe 1er départ sera donné à 
 13h30 pour les minimes et cadets\, féminines\, 5ème et 4ème catégori
 e (11 tours).\nAutour de 15h30\, départ des coureurs 1ère\, 2ème et 3
 ème catégorie pour les fameux 17 tours.\n« Pour finir\, vers 17h30\, 
 les participants recevront leurs récompenses et de nombreux lots\, ce ser
 a aussi l’heure du verre de l’amitié pour couronner cette journée sp
 ortive » conclu Jacques Trouillet\, Président du Vélo Club Blayais.\n
  \nLes amoureux de la petite reine sont donc invités à venir encourager
  les coureurs (entrée gratuite).\n \nPour les participants : Epreuves F
 SGT ouverte aux licenciés UFOLEP en possession du carton course.\n\nEngag
 ement : 5 € FSGT – 7 € UFOLEP
CATEGORIES:Sport
LOCATION:Eglise de Pouzounac\, Pouzounac\, LE GARRIC\, 81450\, France
GEO:44.019309216545395;2.1901073227538745
X-APPLE-STRUCTURED-LOCATION;VALUE=URI;X-ADDRESS=Pouzounac\, LE GARRIC\, 814
 50\, France;X-APPLE-RADIUS=100;X-TITLE=Eglise de Pouzounac:geo:44.01930921
 6545395,2.1901073227538745
END:VEVENT
END:VCALENDAR