BEGIN:VCALENDAR
VERSION:2.0
PRODID:-//wp-events-plugin.com//7.2.3.1//EN
TZID:Europe/Paris
X-WR-TIMEZONE:Europe/Paris
BEGIN:VEVENT
UID:102@le-garric.fr
DTSTART;VALUE=DATE:20180525
DTEND;VALUE=DATE:20180528
DTSTAMP:20221220T125040Z
URL:http://www.le-garric.fr/events/fetes-2018/
SUMMARY:Fêtes 2018
DESCRIPTION:PROGRAMME PROVISOIRE DE LA FETE\n\nVendredi 25 mai\n\nRestaurat
 ion sur place tout le week end EN PLEN AIR OU EN SALLE EN TEMPS DE PLUIE\n
 \nA partir de 18h00 : Fête foraine \n\n19h30: Repas complet pour 10 euro
 s. Renseignement au 06.88.58.35.74 ou 06.47.47.91.11\n\n20h : Apéro conc
 ert gratuit en plein air avec le groupe les CHARRETTES\n\nSamedi 26 mai\n\
 n9h00: Randonnée : Rendez vous place René Cassin à 8h30 pour découvri
 r notre village guidée par G.Médale et R.Roussel.\n\n11h 30 : Cérémo
 nie du monument aux morts.  Suivi d’un apéritif offert aux garricois p
 ar la municipalité et le comité des fêtes du Garric.\n\n12h : repas co
 mplet pour 10 euros Renseignement au : 06.88.58.35.74 ou 06.47.47.91.11\n
 \nToute l’après midi : Fête foraine\, trampoline\n\n14h00 : Pétanqu
 e en doublette\n\n19h00 : Repas complet pour 10 euros.\n\n22h00 : Concer
 t GRATUIT avec le groupe PDM en plein air.\n\nDimanche 27 Mai\n\nNouveau 
 : venez manger des tripoux à partir de 12h…incapacité d’un accueil c
 haleureux et souriant pour 8h se sera trop tôt grosse soirée la veille
 ….lol…\n\nAssiette de charcuterie\, tripoux avec ces pommes de terre\,
  fromage\, tarte pour 10 euros.\n\nToute la journée : Vide grenier organ
 isé par l’association des troubadours et le comité des fêtes.    
                                      
       Inscription au : 06.45.26.94.72\n\nToute la journée : Fête 
 foraine\, atelier maquillage\, trampoline\n\n14h00 : Pétanque en doublet
 te                                    
ATTACH;FMTTYPE=image/jpeg:http://www.le-garric.fr/wp-content/uploads/2018/
 03/fetes2018.jpg
CATEGORIES:Animation
LOCATION:Eglise Neuve\, route de valdériès\, le garric\, 81450\, France
GEO:44.010550432614544;2.1653099629515964
X-APPLE-STRUCTURED-LOCATION;VALUE=URI;X-ADDRESS=route de valdériès\, le g
 arric\, 81450\, France;X-APPLE-RADIUS=100;X-TITLE=Eglise Neuve:geo:44.0105
 50432614544,2.1653099629515964
END:VEVENT
END:VCALENDAR