BEGIN:VCALENDAR
VERSION:2.0
PRODID:-//wp-events-plugin.com//7.2.3.1//EN
TZID:Europe/Paris
X-WR-TIMEZONE:Europe/Paris
BEGIN:VEVENT
UID:86@le-garric.fr
DTSTART;VALUE=DATE:20170525
DTEND;VALUE=DATE:20170529
DTSTAMP:20221220T125039Z
URL:http://www.le-garric.fr/events/fete-du-village/
SUMMARY:Fête du Village
DESCRIPTION:
ATTACH;FMTTYPE=image/jpeg:http://www.le-garric.fr/wp-content/uploads/2017/
 02/comitefete2017.jpg
CATEGORIES:Animation
LOCATION:Eglise Neuve\, route de valdériès\, le garric\, 81450\, France
GEO:44.010550432614544;2.1653099629515964
X-APPLE-STRUCTURED-LOCATION;VALUE=URI;X-ADDRESS=route de valdériès\, le g
 arric\, 81450\, France;X-APPLE-RADIUS=100;X-TITLE=Eglise Neuve:geo:44.0105
 50432614544,2.1653099629515964
END:VEVENT
END:VCALENDAR