BEGIN:VCALENDAR
VERSION:2.0
PRODID:-//wp-events-plugin.com//7.2.3.1//EN
TZID:Europe/Paris
X-WR-TIMEZONE:Europe/Paris
BEGIN:VEVENT
UID:27@le-garric.fr
DTSTART;TZID=Europe/Paris;VALUE=DATE:20220527
DTEND;TZID=Europe/Paris;VALUE=DATE:20220530
DTSTAMP:20221220T125042Z
URL:http://www.le-garric.fr/events/fete-du-village-3/
SUMMARY:Fête du village
DESCRIPTION:organisé par le Comité des fêtes\n\nau programme :\n\n
ATTACH;FMTTYPE=image/jpeg:http://www.le-garric.fr/wp-content/uploads/2021/
 10/fetes2022.jpg
CATEGORIES:Animation
LOCATION:Place René Cassin\, route de valdériès\, le garric\, 81450\, Fr
 ance
GEO:44.01036524097452;2.1671338650817233
X-APPLE-STRUCTURED-LOCATION;VALUE=URI;X-ADDRESS=route de valdériès\, le g
 arric\, 81450\, France;X-APPLE-RADIUS=100;X-TITLE=Place René Cassin:geo:4
 4.01036524097452,2.1671338650817233
END:VEVENT
BEGIN:VTIMEZONE
TZID:Europe/Paris
X-LIC-LOCATION:Europe/Paris
BEGIN:DAYLIGHT
DTSTART:20220327T030000
TZOFFSETFROM:+0100
TZOFFSETTO:+0200
TZNAME:CEST
END:DAYLIGHT
END:VTIMEZONE
END:VCALENDAR