BEGIN:VCALENDAR
VERSION:2.0
PRODID:-//wp-events-plugin.com//7.2.3.1//EN
TZID:Europe/Paris
X-WR-TIMEZONE:Europe/Paris
BEGIN:VEVENT
UID:104@le-garric.fr
DTSTART:20180629T160000Z
DTEND:20180629T160000Z
DTSTAMP:20221220T125040Z
URL:http://www.le-garric.fr/events/fete-de-lecole-du-garric/
SUMMARY:Fête de l'école du Garric
DESCRIPTION:
CATEGORIES:Animation
END:VEVENT
END:VCALENDAR