BEGIN:VCALENDAR
VERSION:2.0
PRODID:-//wp-events-plugin.com//7.2.3.1//EN
TZID:Europe/Paris
X-WR-TIMEZONE:Europe/Paris
BEGIN:VEVENT
UID:33@le-garric.fr
DTSTART;TZID=Europe/Paris:20220617T190000
DTEND;TZID=Europe/Paris:20220617T190000
DTSTAMP:20221220T125042Z
URL:http://www.le-garric.fr/events/fete-de-la-musique-5/
SUMMARY:Fête de la Musique
DESCRIPTION:
ATTACH;FMTTYPE=image/jpeg:http://www.le-garric.fr/wp-content/uploads/2022/
 06/fete-musique-2022.jpg
CATEGORIES:Concert
LOCATION:Kiosque de la Mairie de Le Garric\, Kiosque derrière la Mairie\, 
 le Garric\, 81450\, France
GEO:44.010863;2.166888999999969
X-APPLE-STRUCTURED-LOCATION;VALUE=URI;X-ADDRESS=Kiosque derrière la Mairie
 \, le Garric\, 81450\, France;X-APPLE-RADIUS=100;X-TITLE=Kiosque de la Mai
 rie de Le Garric:geo:44.010863,2.166888999999969
END:VEVENT
BEGIN:VTIMEZONE
TZID:Europe/Paris
X-LIC-LOCATION:Europe/Paris
BEGIN:DAYLIGHT
DTSTART:20220327T030000
TZOFFSETFROM:+0100
TZOFFSETTO:+0200
TZNAME:CEST
END:DAYLIGHT
END:VTIMEZONE
END:VCALENDAR