BEGIN:VCALENDAR
VERSION:2.0
PRODID:-//wp-events-plugin.com//7.2.3.1//EN
TZID:Europe/Paris
X-WR-TIMEZONE:Europe/Paris
BEGIN:VEVENT
UID:103@le-garric.fr
DTSTART:20180616T180000Z
DTEND:20180616T180000Z
DTSTAMP:20221220T125040Z
URL:http://www.le-garric.fr/events/fete-de-la-musique-3/
SUMMARY:Fête de la Musique
DESCRIPTION:
CATEGORIES:Concert
LOCATION:Salle du Conseil Municipal - Mairie de Le Garric\, Salle du Consei
 l Municipal\, le Garric\, 81450\, France
GEO:44.010863;2.166888999999969
X-APPLE-STRUCTURED-LOCATION;VALUE=URI;X-ADDRESS=Salle du Conseil Municipal\
 , le Garric\, 81450\, France;X-APPLE-RADIUS=100;X-TITLE=Salle du Conseil M
 unicipal - Mairie de Le Garric:geo:44.010863,2.166888999999969
END:VEVENT
END:VCALENDAR