BEGIN:VCALENDAR
VERSION:2.0
PRODID:-//wp-events-plugin.com//7.2.3.1//EN
TZID:Europe/Paris
X-WR-TIMEZONE:Europe/Paris
BEGIN:VEVENT
UID:72@le-garric.fr
DTSTART:20170224T133000Z
DTEND:20170224T133000Z
DTSTAMP:20221220T125038Z
URL:http://www.le-garric.fr/events/cabaret-cyrano/
SUMMARY:CABARET CYRANO
DESCRIPTION:Chergui Théâtre\nVendredi 24 février à 14h30\nTarifs : 12 
 € - 8 € (groupes de 10\, CE \, étudiants\, demandeurs d’emploi)\n
 à la Maison de la Musique à Cap Découverte\n81450 LE GARRIC\n*** rensei
 gnements 05 63 80 29 01 ***\n \nEdmond Rostand et Jacques Offenbach ont 
 été tous deux des témoins critiques de notre société.\n \nLe public 
 découvre la compagnie « Les Cadets de Gascogne » qui répète « Tulipa
 tan » d’Offenbach. Rapidement\, Cyrano entre et souffle son vent de pro
 vocation et de révolte.Dans cet espace de recherche théâtrale\, le text
 e de Rostand se vit au présent des protagonistes : le directeur du théâ
 tre est De Guiche \; le metteur en scène devient Le Bret\, ami de Cyrano 
 \; la technicienne lumière se transforme en Roxane sur son échelle-balco
 n \; un jeune comédien à l’essai endosse tour à tour les rôles de Mo
 ntfleury\, du Fâcheux puis celui du beau Christian \; le sourire de la sc
 énographe se retrouvera dans le visage de sœur Marthe \; la chef de chœ
 ur et pianiste se trouve entraînée dans les confidences de Roxane…\n 
 \nToute la dramaturgie de « Cyrano de Bergerac » est là : la poésie de
  son texte\, l’amour et sa folie\, le rire et la tragédie. Le tout ryth
 mé par des extraits musicaux d’Offenbach\, piano et chant.\n \nLe spec
 tacle commence dans le public et se recentre peu à peu sur le plateau. Pr
 is dans une bascule temporelle\, les spectateurs se retrouvent ensuite et 
 enfin dans une mise en scène « classique »\, comme pour rappeler l’or
 igine de cette pièce mythique…\n \nMise en scène Hervé Carrère avec
  :\n\n\n 	Jean-Michel Hernandez\n 	Ericka Vielville\n 	Thibault Valant\n 	
 Marc Lallement\n 	Lola Kirchner\n 	Stella Juliachs\n 	Hervé Carrère\n 	
  \n\nUne action Maison de la Musique Cap Découverte
CATEGORIES:Théatre
LOCATION:Maison de la Musique - Cap Découverte\, Cap découverte\, le garr
 ic\, 81450\, France
GEO:44.014818843526534;2.139764644457955
X-APPLE-STRUCTURED-LOCATION;VALUE=URI;X-ADDRESS=Cap découverte\, le garric
 \, 81450\, France;X-APPLE-RADIUS=100;X-TITLE=Maison de la Musique - Cap D
 écouverte:geo:44.014818843526534,2.139764644457955
END:VEVENT
END:VCALENDAR