BEGIN:VCALENDAR
VERSION:2.0
PRODID:-//wp-events-plugin.com//7.2.3.1//EN
TZID:Europe/Paris
X-WR-TIMEZONE:Europe/Paris
BEGIN:VEVENT
UID:53@le-garric.fr
DTSTART;VALUE=DATE:20160423
DTEND;VALUE=DATE:20160424
DTSTAMP:20221220T125035Z
URL:http://www.le-garric.fr/events/fete-de-la-brebis/
SUMMARY:Fête de la brebis
DESCRIPTION:À Cap'Découverte dès 8h venez découvrir la tonte des brebis
 .\nNous partagerons un repas tous ensemble "Auberge espagnole" nous nous o
 ccupons de l'apéritif ainsi que du barbecue et vous amenez salade\, quich
 e\, tarte ou dessert !\n\nVous êtes tous les bienvenus pour passer 1h ou 
 bien la journée entière !\nDes surprises attendent les enfants cette ann
 ée !
CATEGORIES:Animation
LOCATION:Eglise de Pouzounac\, Pouzounac\, LE GARRIC\, 81450\, France
GEO:44.019309216545395;2.1901073227538745
X-APPLE-STRUCTURED-LOCATION;VALUE=URI;X-ADDRESS=Pouzounac\, LE GARRIC\, 814
 50\, France;X-APPLE-RADIUS=100;X-TITLE=Eglise de Pouzounac:geo:44.01930921
 6545395,2.1901073227538745
END:VEVENT
END:VCALENDAR