BEGIN:VCALENDAR
VERSION:2.0
PRODID:-//wp-events-plugin.com//7.2.3.1//EN
TZID:Europe/Paris
X-WR-TIMEZONE:Europe/Paris
BEGIN:VEVENT
UID:37@le-garric.fr
DTSTART;TZID=Europe/Paris;VALUE=DATE:20230728
DTEND;TZID=Europe/Paris;VALUE=DATE:20230731
DTSTAMP:20221220T125357Z
URL:http://www.le-garric.fr/events/festival-xtremfest/
SUMMARY:Festival XtremFest
DESCRIPTION:10 ème edition\, plus d'infos sur le site https://xtremefest.f
 r/\n\n&nbsp\;
ATTACH;FMTTYPE=image/jpeg:http://www.le-garric.fr/wp-content/uploads/2022/
 10/xtremfest2023.jpg
CATEGORIES:Concert
LOCATION:Espace Festival - Cap Découverte\, cap découverte\, Le garric\, 
 81450\, France
GEO:44.02129329678281;2.1325922221680002
X-APPLE-STRUCTURED-LOCATION;VALUE=URI;X-ADDRESS=cap découverte\, Le garric
 \, 81450\, France;X-APPLE-RADIUS=100;X-TITLE=Espace Festival - Cap Découv
 erte:geo:44.02129329678281,2.1325922221680002
END:VEVENT
BEGIN:VTIMEZONE
TZID:Europe/Paris
X-LIC-LOCATION:Europe/Paris
BEGIN:DAYLIGHT
DTSTART:20230326T030000
TZOFFSETFROM:+0100
TZOFFSETTO:+0200
TZNAME:CEST
END:DAYLIGHT
END:VTIMEZONE
END:VCALENDAR