BEGIN:VCALENDAR
VERSION:2.0
PRODID:-//wp-events-plugin.com//7.2.3.1//EN
TZID:Europe/Paris
X-WR-TIMEZONE:Europe/Paris
BEGIN:VEVENT
UID:70@le-garric.fr
DTSTART;VALUE=DATE:20170206
DTEND;VALUE=DATE:20170211
DTSTAMP:20221220T125037Z
URL:http://www.le-garric.fr/events/stages-de-cirque-cabolo-pour-les-enfant
 s/
SUMMARY:STAGES DE CIRQUE CABOLO POUR LES ENFANTS
DESCRIPTION:\n\n\n\n\navec l’Association la Coupole\nDu 6 au 10 février 
 2017\nMaison de la Musique de Cap’Découverte\n81450 LE GARRIC\n*** rens
 eignements et inscriptions obligatoires 05 63 63 80 29 01 ou 06 80 04 82 0
 3 ***\n\nPOUR SE PRENDRE AU JEU DU CIRQUE…\n\nDu 6 au 10 février\, orga
 nisés à la Maison de la Musique de Cap Découverte\, les stages de cirqu
 e Cabolo vont permettre aux enfants et adolescents de 4 à 14 ans\, de dé
 couvrir l’univers Circassien.\n\nQuelle expérience valorisante et origi
 nale\, 5 jours en immersion dans le monde du Cirque !\n\nLa Compagnie La 
 Coupole propose aux petits de  4 à 6 ans et demi\, sur 2 groupes\, des p
 arcours de découverte\, acrobatie\, jonglage\, équilibre sur objets….\
 n\nDes ateliers cirque sont proposés aux enfants de 7 à 11 ans ainsi que
  la danse hip hop.\nQuant aux ados\, ils seront initiés au trapèze fixe\
 , tissus aérien et corde lisse.\n\nUn programme très ludique et passionn
 ant\, sur inscriptions uniquement.\nAttention\, les places sont limitées 
 et partent vite en ce qui concerne les 7 à 11 ans.\n\n\nContact : 05 63 
 80 29 01 / e.alba@capdecouverte.com\n\n\n\n\n\n
CATEGORIES:Animation
LOCATION:Maison de la Musique - Cap Découverte\, Cap découverte\, le garr
 ic\, 81450\, France
GEO:44.014818843526534;2.139764644457955
X-APPLE-STRUCTURED-LOCATION;VALUE=URI;X-ADDRESS=Cap découverte\, le garric
 \, 81450\, France;X-APPLE-RADIUS=100;X-TITLE=Maison de la Musique - Cap D
 écouverte:geo:44.014818843526534,2.139764644457955
END:VEVENT
END:VCALENDAR