BEGIN:VCALENDAR
VERSION:2.0
PRODID:-//wp-events-plugin.com//7.2.3.1//EN
TZID:Europe/Paris
X-WR-TIMEZONE:Europe/Paris
BEGIN:VEVENT
UID:87@le-garric.fr
DTSTART:20170607T190000Z
DTEND:20170607T190000Z
DTSTAMP:20221220T125039Z
URL:http://www.le-garric.fr/events/danse-corps-poetiques-ecritures-choregr
 aphiques/
SUMMARY:DanSe : Corps poétiques & écritures chorégraphiques
DESCRIPTION:Conservatoire de Danse &amp\; de Musique du Tarn (CMDT)\nMERCRE
 DI 7 JUIN à 20h00\nEntrée gratuite pas de réservation\nMaison de la Mus
 ique / Cap’Découverte\n81450 LE GARRIC\n*** renseignements au 05 63 54 
 51 61***\n \n« Quelle belle aventure que d’enseigner la danse ! Une 
 chasse aux trésors\, artistiques et humaines !\nLe but de l’enseigneme
 nt ? Aider à faire fleurir chez un autre ce qu’on a eu le privilège d
 e sentir fleurir en soit. »\nSuivant les propos de Jacqueline Robinson\,
  les professeurs s’aventurent avec les élèves à la recherche de ce qu
 e peut le corps et proposent tout au long de l’année d’enrichir leurs
  cours de rencontres stimulantes et structurantes avec des artistes invit
 és en studio ou sur scène pour partager leurs univers.\n« La danse… 
 une façon\, d’engendrer des myriades de questions et de réponses »
 …\n« Une puissance à faire de chaque pas une interrogation sur l’ê
 tre. » Paul Valéry
CATEGORIES:Animation
LOCATION:Maison de la Musique - Cap Découverte\, Cap découverte\, le garr
 ic\, 81450\, France
GEO:44.014818843526534;2.139764644457955
X-APPLE-STRUCTURED-LOCATION;VALUE=URI;X-ADDRESS=Cap découverte\, le garric
 \, 81450\, France;X-APPLE-RADIUS=100;X-TITLE=Maison de la Musique - Cap D
 écouverte:geo:44.014818843526534,2.139764644457955
END:VEVENT
END:VCALENDAR