BEGIN:VCALENDAR
VERSION:2.0
PRODID:-//wp-events-plugin.com//7.2.3.1//EN
TZID:Europe/Paris
X-WR-TIMEZONE:Europe/Paris
BEGIN:VEVENT
UID:96@le-garric.fr
DTSTART:20180325T070000Z
DTEND:20180325T160000Z
DTSTAMP:20221220T125040Z
URL:http://www.le-garric.fr/events/course-dendurance-equestre-regionale/
SUMMARY:COURSE D’ENDURANCE EQUESTRE REGIONALE
DESCRIPTION:Dimanche 25 mars de 8h00 à 17h00\nSite de Cap’Découverte\n8
 1450 LE GARRIC\n*** renseignements 05.63.36.82.21/06.61.54.49.01***\nDiman
 che 25 mars 2018\, le Centre Equestre Poney-club du Capimont organisera sa
  6ème course d'endurance sur le magnifique site de la base de loisirs de 
 Cap découverte.\nA l’occasion de cette manifestation sportive\, 30 km d
 e pistes seront balisées. Des épreuves de niveaux club et amateurs seron
 t proposées. Selon les catégories courues les distances varient de 20 km
  à 80 km.Une centaine de chevaux seront attendus ce jour-là.\nLe champio
 n de France d’Endurance\, Philippe Thomas\, par sa présence\, soutiendr
 a l’équipe organisatrice.\n Le centre équestre du Capimont sera repr
 ésenté dans les courses de niveau club 20\, 40 et 60 km. Les cavalière
 s de ce Club pourront compter sur leur coach Nathalie Coucoulis.\nUne tren
 taine de bénévoles permettront le bon déroulement de cette nouvelle éd
 ition. La Croix Rouge d'Albi sera sur place pour assurer les interventions
  médicales.\n\nCe site permet d'avoir de belles pistes pour les cavaliers
 \, praticables par tous temps\, mais il permet également d'apporter beauc
 oup de confort au niveau de l'accueil des vans et camions (point d'eau\, a
 ire de parking spacieuse)\n\nLes passionnés de chevaux et promeneurs du d
 imanche pourront venir sur place\, assister au défilé permanent des chev
 aux à l'entrée des aires vétérinaire mais aussi pour voir l'arrivée e
 t le départ des concurrents.\n\nBuvette sur place : boissons et repas ch
 auds.\nPhoto d’Olivier Franc\n
CATEGORIES:Animation
LOCATION:Eglise de Pouzounac\, Pouzounac\, LE GARRIC\, 81450\, France
GEO:44.019309216545395;2.1901073227538745
X-APPLE-STRUCTURED-LOCATION;VALUE=URI;X-ADDRESS=Pouzounac\, LE GARRIC\, 814
 50\, France;X-APPLE-RADIUS=100;X-TITLE=Eglise de Pouzounac:geo:44.01930921
 6545395,2.1901073227538745
END:VEVENT
END:VCALENDAR