BEGIN:VCALENDAR
VERSION:2.0
PRODID:-//wp-events-plugin.com//7.2.3.1//EN
TZID:Europe/Paris
X-WR-TIMEZONE:Europe/Paris
BEGIN:VEVENT
UID:100@le-garric.fr
DTSTART:20180427T190000Z
DTEND:20180427T223000Z
DTSTAMP:20221220T125040Z
URL:http://www.le-garric.fr/events/concert-rock-for-easter-4/
SUMMARY:CONCERT ROCK FOR EASTER
DESCRIPTION:Ecole de Muzik Addicted\nVendredi 27 avril à 20h00\nEntrées\,
  en fosse : 4 € - gradin : 6 €\nMaison de la Musique / Cap’Découv
 erte\n81450 LE GARRIC\nDeux fois par an\, sur la grande scène de la Maiso
 n de la Musique à Cap Découverte\, les élèves de l’école de Muzik A
 ddicted reprennent les standards qui ont enflammé les plus grandes scèn
 es mondiales.\nL’édition de Noël a connu un franc succès… Celle des
  vacances de Pâques est en préparation\, les élèves y travaillent d’
 arrache pieds\, le « Rock for Easter » sera de retour le Vendredi 27 a
 vril.\n\nEncadrés de techniciens professionnels\, les élèves musiciens/
 chanteurs\, intermédiaires ou confirmés\, développeront leurs acquis da
 ns des conditions optimums. \nCes concerts sont de beaux moments de convi
 vialité et d'émotion aussi bien pour les apprentis musiciens\, leurs pro
 fs et leur famille.
CATEGORIES:Concert
LOCATION:Maison de la Musique - Cap Découverte\, Cap découverte\, le garr
 ic\, 81450\, France
GEO:44.014818843526534;2.139764644457955
X-APPLE-STRUCTURED-LOCATION;VALUE=URI;X-ADDRESS=Cap découverte\, le garric
 \, 81450\, France;X-APPLE-RADIUS=100;X-TITLE=Maison de la Musique - Cap D
 écouverte:geo:44.014818843526534,2.139764644457955
END:VEVENT
END:VCALENDAR