BEGIN:VCALENDAR
VERSION:2.0
PRODID:-//wp-events-plugin.com//7.2.3.1//EN
TZID:Europe/Paris
X-WR-TIMEZONE:Europe/Paris
BEGIN:VEVENT
UID:56@le-garric.fr
DTSTART:20160429T183000Z
DTEND:20160429T223000Z
DTSTAMP:20221220T125035Z
URL:http://www.le-garric.fr/events/concert-rock-for-easter-2/
SUMMARY:CONCERT ROCK FOR EASTER
DESCRIPTION:Ecole de Muzik Addicted\nVendredi 29 avril à 19h30\nEntrées 
 : en fosse : 4 € - gradin : 6 €\nMaison de la Musique / Cap’Décou
 verte\n81450 LE GARRIC\n\nL’école de musique MUZIK ADDICTED\, sur scèn
 e\, le Vendredi 29  avril\, à la Maison de la Musique\, va  encore frap
 per avec un programme des plus complets pour cette nouvelle édition de Ro
 ck for Easter. Plusieurs groupes inédits formés d’élèves guitariste
 s\, bassistes\, chanteurs et batteurs interpréteront leurs morceaux favor
 is. Un menu des plus éclectiques : Alphaville\, The Beatles\, Ariana Gran
 de\, Ray Charles\, Smash Mouth\, Kim Wilde…\, Une musique bien musclée
 \, concoctée à coup de rock’n’roll\, que ces jeunes talents vont dé
 fendre devant un public fidèle et réceptif. \n\n\n Une action Muzik Ad
 dicted - SMAD/Cap Découverte \n
LOCATION:Maison de la Musique - Cap Découverte\, Cap découverte\, le garr
 ic\, 81450\, France
GEO:44.014818843526534;2.139764644457955
X-APPLE-STRUCTURED-LOCATION;VALUE=URI;X-ADDRESS=Cap découverte\, le garric
 \, 81450\, France;X-APPLE-RADIUS=100;X-TITLE=Maison de la Musique - Cap D
 écouverte:geo:44.014818843526534,2.139764644457955
END:VEVENT
END:VCALENDAR