BEGIN:VCALENDAR
VERSION:2.0
PRODID:-//wp-events-plugin.com//7.2.3.1//EN
TZID:Europe/Paris
X-WR-TIMEZONE:Europe/Paris
BEGIN:VEVENT
UID:54@le-garric.fr
DTSTART:20160423T193000Z
DTEND:20160423T223000Z
DTSTAMP:20221220T125035Z
URL:http://www.le-garric.fr/events/concert-federation-musicale-du-tarn-con
 cretum/
SUMMARY:Concert Fédération Musicale du Tarn «CONCRETUM»
DESCRIPTION:Organisé par la FMT\nSamedi 23 avril à 20h30\nMaison de la Mu
 sique à Cap Découverte\nGratuit pour le public\n81450 LE GARRIC\n* * * r
 enseignements 05 63 80 29 01 ***\nfmtarn@gmail.com\n\n\nChaque année\, la
  Fédération Musicale du Tarn\, organise un stage d’orchestre destiné 
 à ses jeunes musiciens issus de tout le département. Ce stage se déroul
 e durant les vacances de Printemps à la Maison de la Musique de Cap Déco
 uverte où l’Orchestre d’Harmonie Junior du Tarn se réunit depuis plu
 sieurs années déjà.\n\nPlacés sous la direction de Cédric Lenoir et B
 astien Maury\, les jeunes musiciens travaillent durant une semaine un prog
 ramme musical entièrement renouvelé\, avec l'aide d'intervenants qualifi
 és dans chaque pupitre d'instrument. Cet orchestre a pour objectifs de fa
 ire progresser les élèves dans leur pratique collective\, ainsi que dans
  leur technique instrumentale.\n\nLe programme ainsi travaillé sera prés
 enté au public le samedi 23 avril 2016 à 20h30 à la Maison de la Musi
 que de Cap Découverte\, avec la participation de l'Orchestre d'Harmonie C
 adet du Tarn (composé de musiciens plus jeunes qui se familiarisent avec 
 la pratique en orchestre).\n\nRetrouvez l'Orchestre d'Harmonie Junior du T
 arn pour son concert de fin de stage.Un spectacle musical et visuel vous a
 ttends...venez nombreux!
CATEGORIES:Concert
LOCATION:Maison de la Musique - Cap Découverte\, Cap découverte\, le garr
 ic\, 81450\, France
GEO:44.014818843526534;2.139764644457955
X-APPLE-STRUCTURED-LOCATION;VALUE=URI;X-ADDRESS=Cap découverte\, le garric
 \, 81450\, France;X-APPLE-RADIUS=100;X-TITLE=Maison de la Musique - Cap D
 écouverte:geo:44.014818843526534,2.139764644457955
END:VEVENT
END:VCALENDAR