BEGIN:VCALENDAR
VERSION:2.0
PRODID:-//wp-events-plugin.com//7.2.3.1//EN
TZID:Europe/Paris
X-WR-TIMEZONE:Europe/Paris
BEGIN:VEVENT
UID:82@le-garric.fr
DTSTART:20170428T193000Z
DTEND:20170428T193000Z
DTSTAMP:20221220T125039Z
URL:http://www.le-garric.fr/events/concert-fabrice-eulry/
SUMMARY:Concert FABRICE EULRY
DESCRIPTION:Avec en 1ère partie MONDAY JAZZ BAND\nVENDREDI 28 AVRIL à 20h
 30\nEntrée à 8 € (tarif unique)\nMaison de la Musique / Cap’Découve
 rte\n81450 LE GARRIC\n*** Billetterie en ligne www.sn-albi.fr/albilletteri
 e.php\nrenseignements à l’ Office d’animation du Carmausin 05 63 76 7
 6 67 ou Maison de la Musique 05 63 80 29 01 ***\n\nConcert évènement de 
 Fabrice Eulry vendredi 28 avril à la maison de la musique de Cap Découve
 rte. L'occasion d'y admirer un des plus grands pianistes mondiaux jazz-boo
 gie-woogie\, en concert dans sa ville natale. En première partie\, le Mon
 day jazz band revisitera les classiques du jazz.\n\nFabrice Eulry est « L
 e Chopin du boogie-woogie » Le figaro / « Un pianiste infatigable » Le 
 parisien.\nPianiste\, showman exubérant\, Fabrice Eulry est originaire de
  Carmaux.\n\nAvec ce concert il s'offre un petit retour aux sources et l'o
 ccasion pour tous de découvrir son art du piano solo boogie-woogie\, blue
 s\, jazz.\n\nCet artiste a un sens inné du rythme et un sens unique de la
  mise en scène. Un exercice périlleux d'autant plus quand il s'agit d'un
  pianiste solo. Il faut le voir jouer : son punch\, son dynamisme\, son in
 tensité\, son implication totale dans sa musique sont un authentique spec
 tacle ! Airs populaires\, musique classique\, valse musette\, musique Noir
 e-Américaine\, folklore tzigane\, musique orientale\, rock'n roll...\nFab
 rice Eulry s'approprie tous ces airs et grâce à ses improvisations en fa
 it son univers auquel il vous invite. Pour lui\, la musique doit revenir 
 à des choses simples\, privilégier un contact sans intermédiaire avec l
 e public. Le spectacle crée un engouement par une écoute accessible et d
 irecte.\n\nMonday jazz band - 1re partie\nBig band tarnais qui perpétue l
 ’esprit des grandes formations de jazz des années 1940-1950\, Monday ja
 zz band a le swing dans la peau.\nDans un esprit fidèle aux origines des 
 grands ensembles de jazz\, les dix-neuf musiciens du big band revisitent l
 es standards qui ont marqué l’histoire du jazz : rendez-vous avec Count
  Basie\, Cole Porter\, Glenn Miller ou encore l’immense Duke Ellington !
 \nUn concert-événement d'un pianiste en dehors de toutes conventions ! C
 ette soirée sera "jazz pour tout le monde" !\n\nUne soirée proposée par
  la commission culture de la ville de Carmaux\, en partenariat avec la mai
 son de la musique et l’office d’animation du Carmausin.
CATEGORIES:Concert
LOCATION:Maison de la Musique - Cap Découverte\, Cap découverte\, le garr
 ic\, 81450\, France
GEO:44.014818843526534;2.139764644457955
X-APPLE-STRUCTURED-LOCATION;VALUE=URI;X-ADDRESS=Cap découverte\, le garric
 \, 81450\, France;X-APPLE-RADIUS=100;X-TITLE=Maison de la Musique - Cap D
 écouverte:geo:44.014818843526534,2.139764644457955
END:VEVENT
END:VCALENDAR