BEGIN:VCALENDAR
VERSION:2.0
PRODID:-//wp-events-plugin.com//7.2.3.1//EN
TZID:Europe/Paris
X-WR-TIMEZONE:Europe/Paris
BEGIN:VEVENT
UID:58@le-garric.fr
DTSTART:20160503T193000Z
DTEND:20160503T213000Z
DTSTAMP:20221220T125036Z
URL:http://www.le-garric.fr/events/concert-de-taraf-de-haidouk/
SUMMARY:Concert de Taraf de Haidouks
DESCRIPTION:MUSIQUES DU MONDE / BALKANS\nOrganisé par la Scène Nationale 
 / SMAD Cap Découverte\nMardi 3 mai à 20h30\nTarifs : de 11 à 25 €\nMa
 ison de la Musique – Cap Découverte –\n81450 LE GARRIC\n*** renseigne
 ments &amp\; locations au 05 63 38 55 56 - accueil@sn-albi.fr ***\n\nViolo
 ns\, accordéons\, cymbalum\, les treize virtuoses investissent la scène 
 pour un déferlement de mélodies et d’harmonies sauvages.\n\nOriginaire
  du village de Clejani\, en Roumanie\, le Taraf de Haïdouks (« l’orche
 stre des bandits d’honneur ») est composé d’une douzaine de brillant
 s « lautari » (chanteurs et musiciens traditionnels) âgés de 30 à 80 
 ans. Depuis la parution de son premier album (1991) et sa participation à
  Latcho Drom (le fameux film de Tony Gatlif)\, le Taraf de Haïdouks s’e
 st imposé comme un groupe emblématique qui symbolise la merveilleuse vit
 alité de la musique tsigane des Balkans\, traditionnelle\, populaire et a
 ujourd’hui classique\, arrangée à leur façon festive et délurée.\n\
 nSans vraiment jamais se prendre au sérieux\, mais toujours avec rage et 
 coeur\, les musiciens roumains jouent leur musique : celle qu’ils entret
 iennent au quotidien\, avec précaution\, à coups de disputes et de réco
 nciliations\, de passions amoureuses et de cœurs brisés\, d’embrassade
 s et de bagarres générales…\n\nUn partenariat scène Nationale d’Alb
 i / le SMAD Cap’Découvert
CATEGORIES:Concert
LOCATION:Maison de la Musique - Cap Découverte\, Cap découverte\, le garr
 ic\, 81450\, France
GEO:44.014818843526534;2.139764644457955
X-APPLE-STRUCTURED-LOCATION;VALUE=URI;X-ADDRESS=Cap découverte\, le garric
 \, 81450\, France;X-APPLE-RADIUS=100;X-TITLE=Maison de la Musique - Cap D
 écouverte:geo:44.014818843526534,2.139764644457955
END:VEVENT
END:VCALENDAR